BEGIN:VCALENDAR
VERSION:2.0
PRODID:-//ChamberMaster//Event Calendar 2.0//EN
METHOD:PUBLISH
X-PUBLISHED-TTL:P3D
REFRESH-INTERVAL:P3D
CALSCALE:GREGORIAN
BEGIN:VEVENT
DTSTART:20241227T160000Z
DTEND:20241227T200000Z
X-MICROSOFT-CDO-ALLDAYEVENT:FALSE
SUMMARY:Movie Day At Oak Street Health
DESCRIPTION:Looking for fun? We've got just the ticket. Join us for The Fire Inside. Friday 12/27/2024 at 24:1 Cinema located at 6755 Page Ave\, St. Louis\, MO 63133\n\nRSVP today by calling 314-354-7760
X-ALT-DESC;FMTTYPE=text/html:Looking for fun? We&rsquo\;ve got just the ticket. Join us for The Fire Inside. Friday 12/27/2024 at 24:1 Cinema located at 6755 Page Ave\, St. Louis\, MO 63133<br />\nRSVP today by calling 314-354-7760
LOCATION:24:1 Cinema located at 6755 Page Ave\, St. Louis\, MO 63133
UID:e.1302.21500
SEQUENCE:3
DTSTAMP:20260421T093424Z
URL:https://public.greaternorthcountychamber.com/events/details/movie-day-at-oak-street-health-21500
END:VEVENT

END:VCALENDAR
