BEGIN:VCALENDAR
VERSION:2.0
PRODID:-//ChamberMaster//Event Calendar 2.0//EN
METHOD:PUBLISH
X-PUBLISHED-TTL:P3D
REFRESH-INTERVAL:P3D
CALSCALE:GREGORIAN
BEGIN:VEVENT
DTSTART:20221029T203000Z
DTEND:20221030T020000Z
X-MICROSOFT-CDO-ALLDAYEVENT:FALSE
SUMMARY:Moment with Santa
DESCRIPTION:The most magical holiday experience for your family that will be a Moment to Remember! Elegant\, professional photo session with Santa in Old Town Florissant! The Details: October 29\, 2022 - your session and 8 digital images - a special treat from Santa during your session - 5x7 print from your session Bring an unwrapped toy for the Toy Drive and receive an extra print of your choice up to 8x10! Reservations are required.
X-ALT-DESC;FMTTYPE=text/html:The most magical holiday experience for your family that will be a Moment to Remember! Elegant\, professional photo session with Santa in Old Town Florissant! The Details: October 29\, 2022 - your session and 8 digital images - a special treat from Santa during your session - 5x7 print from your session Bring an unwrapped toy for the Toy Drive and receive an extra print of your choice up to 8x10! Reservations are required.
LOCATION:801 Rue St. Francois
UID:e.1302.20665
SEQUENCE:3
DTSTAMP:20260422T195456Z
URL:https://public.greaternorthcountychamber.com/events/details/moment-with-santa-20665
END:VEVENT

END:VCALENDAR
