BEGIN:VCALENDAR
VERSION:2.0
PRODID:-//ChamberMaster//Event Calendar 2.0//EN
METHOD:PUBLISH
X-PUBLISHED-TTL:P3D
REFRESH-INTERVAL:P3D
CALSCALE:GREGORIAN
BEGIN:VEVENT
DTSTART:20241101T213000Z
DTEND:20241102T003000Z
X-MICROSOFT-CDO-ALLDAYEVENT:FALSE
SUMMARY:Missouri Valley College Meet & Greet
DESCRIPTION:Join us on Friday November 1st\, 2024 from 4:30-7:30pm at Westport Social located at 910 Westport Plaza\, St. Louis\, MO 63146 and meet Missouri Valley College President Dr. Joe Parisi. RSVP to alumni@moval.edu or call 660-831-4620
X-ALT-DESC;FMTTYPE=text/html:<p style="margin: 0px\; padding: 0px\; text-align: center\;"><span style="font-size: 15px\; color: rgb(102\, 102\, 102)\;">Join us on </span><span style="font-size: 15px\; color: rgb(102\, 102\, 102)\; font-weight: bold\;">Friday November 1st\, 2024</span><span style="font-size: 15px\; color: rgb(102\, 102\, 102)\;"> from 4:30-7:30pm at Westport Social located at 910 Westport Plaza\, St. Louis\, MO 63146 and meet Missouri Valley College President Dr. Joe Parisi. RSVP to alumni@moval.edu or call 660-831-4620</span></p>\n\n<p style="margin: 0px\; padding: 0px\;">&nbsp\;</p>\n
LOCATION:Westport Social located at 910 Westport Plaza\, St. Louis\, MO 63146
UID:e.1302.21287
SEQUENCE:3
DTSTAMP:20260419T182053Z
URL:https://public.greaternorthcountychamber.com/events/details/missouri-valley-college-meet-greet-21287
END:VEVENT

END:VCALENDAR
