BEGIN:VCALENDAR
VERSION:2.0
PRODID:-//ChamberMaster//Event Calendar 2.0//EN
METHOD:PUBLISH
X-PUBLISHED-TTL:P3D
REFRESH-INTERVAL:P3D
CALSCALE:GREGORIAN
BEGIN:VEVENT
DTSTART:20241101T163000Z
DTEND:20241101T173000Z
X-MICROSOFT-CDO-ALLDAYEVENT:FALSE
SUMMARY:Missouri Valley College Lunch & Learn
DESCRIPTION:Join us for our first counselor Lunch and Learn on November 1st\, 2024 at Syberg's on Dorsett at 2340 Old Dorsett rd\, Maryland Heights\, MO 63043 at 11:30am to learn more about Missouri Valley College\, meet the President Dr. Joe Parisi\, and ask your questions. To RSVP or get more information reach out to Kristen Revis at 314-853-6921 or revisk@moval.edu
X-ALT-DESC;FMTTYPE=text/html:<span style="color: rgb(0\, 0\, 0)\; font-family: Arial\, Verdana\, Helvetica\, sans-serif\; text-align: center\; white-space-collapse: preserve\; font-size: 15px\;">Join us for our first counselor Lunch and Learn on </span><span style="color: rgb(0\, 0\, 0)\; font-family: Arial\, Verdana\, Helvetica\, sans-serif\; text-align: center\; white-space-collapse: preserve\; font-size: 15px\; font-weight: bold\;">November 1st\, 2024</span><span style="color: rgb(0\, 0\, 0)\; font-family: Arial\, Verdana\, Helvetica\, sans-serif\; text-align: center\; white-space-collapse: preserve\; font-size: 15px\;"> at Syberg&#39\;s on Dorsett at 2340 Old Dorsett rd\, Maryland Heights\, MO 63043 at 11:30am to learn more about Missouri Valley College\, meet the President Dr. Joe Parisi\, and ask your questions. To RSVP or get more information reach out to Kristen Revis at 314-853-6921 or revisk@moval.edu</span>
LOCATION:Syberg's on Dorsett at 2340 Old Dorsett rd\, Maryland Heights\, MO 63043
UID:e.1302.21286
SEQUENCE:3
DTSTAMP:20260419T182042Z
URL:https://public.greaternorthcountychamber.com/events/details/missouri-valley-college-lunch-learn-21286
END:VEVENT

END:VCALENDAR
