BEGIN:VCALENDAR
VERSION:2.0
PRODID:-//ChamberMaster//Event Calendar 2.0//EN
METHOD:PUBLISH
X-PUBLISHED-TTL:P3D
REFRESH-INTERVAL:P3D
CALSCALE:GREGORIAN
BEGIN:VEVENT
DTSTART:20241102T180000Z
DTEND:20241102T210000Z
X-MICROSOFT-CDO-ALLDAYEVENT:FALSE
SUMMARY:Missouri Valley College Football Game
DESCRIPTION:Come out on Saturday November 2nd at 1pm for the Missouri Valley Football Game against Missouri Baptist University
X-ALT-DESC;FMTTYPE=text/html:<span style="color: rgb(0\, 0\, 0)\; font-family: Arial\, Verdana\, Helvetica\, sans-serif\; text-align: center\; white-space-collapse: preserve\; font-size: 15px\;">Come out on </span><span style="color: rgb(0\, 0\, 0)\; font-family: Arial\, Verdana\, Helvetica\, sans-serif\; text-align: center\; white-space-collapse: preserve\; font-size: 15px\; font-weight: bold\;">Saturday November 2nd</span><span style="color: rgb(0\, 0\, 0)\; font-family: Arial\, Verdana\, Helvetica\, sans-serif\; text-align: center\; white-space-collapse: preserve\; font-size: 15px\;"> at 1pm for the Missouri Valley Football Game against Missouri Baptist University</span>
LOCATION:Missouri Baptist University\, 1 College Park Dr\, St. Louis\, MO 63141
UID:e.1302.21289
SEQUENCE:3
DTSTAMP:20260419T142416Z
URL:https://public.greaternorthcountychamber.com/events/details/missouri-valley-college-football-game-21289
END:VEVENT

END:VCALENDAR
