BEGIN:VCALENDAR
VERSION:2.0
PRODID:-//ChamberMaster//Event Calendar 2.0//EN
METHOD:PUBLISH
X-PUBLISHED-TTL:P3D
REFRESH-INTERVAL:P3D
CALSCALE:GREGORIAN
BEGIN:VEVENT
DTSTART:20241102T141500Z
DTEND:20241102T170000Z
X-MICROSOFT-CDO-ALLDAYEVENT:FALSE
SUMMARY:Missouri Valley College 101
DESCRIPTION:Join us on Saturday November 2nd from 9:15am-12pm at the Webster Groves Library 301 E. Lockwood Ave\, Webster Groves\, MO 63119 for a light breakfast and to learn all about Missouri Valley College with President Dr. Joe Parisi\, and alumni. Please RSVP to Kristen Revis at 314-853-6921 or email at revisk@moval.edu
X-ALT-DESC;FMTTYPE=text/html:<span style="color: rgb(0\, 0\, 0)\; font-family: Arial\, Verdana\, Helvetica\, sans-serif\; text-align: center\; white-space-collapse: preserve\; font-size: 15px\;">Join us on </span><span style="color: rgb(0\, 0\, 0)\; font-family: Arial\, Verdana\, Helvetica\, sans-serif\; text-align: center\; white-space-collapse: preserve\; font-size: 15px\; font-weight: bold\;">Saturday November 2nd</span><span style="color: rgb(0\, 0\, 0)\; font-family: Arial\, Verdana\, Helvetica\, sans-serif\; text-align: center\; white-space-collapse: preserve\; font-size: 15px\;"> from 9:15am-12pm at the Webster Groves Library 301 E. Lockwood Ave\, Webster Groves\, MO 63119 for a light breakfast and to learn all about Missouri Valley College with President Dr. Joe Parisi\, and alumni. Please RSVP to Kristen Revis at 314-853-6921 or email at revisk@moval.edu</span>
LOCATION:Webster Groves Library 301 E. Lockwood Ave\, Webster Groves\, MO 63119
UID:e.1302.21288
SEQUENCE:3
DTSTAMP:20260419T182042Z
URL:https://public.greaternorthcountychamber.com/events/details/missouri-valley-college-101-21288
END:VEVENT

END:VCALENDAR
