BEGIN:VCALENDAR
VERSION:2.0
PRODID:-//ChamberMaster//Event Calendar 2.0//EN
METHOD:PUBLISH
X-PUBLISHED-TTL:P3D
REFRESH-INTERVAL:P3D
CALSCALE:GREGORIAN
BEGIN:VEVENT
DTSTART;VALUE=DATE:20241130
DTEND;VALUE=DATE:20241201
TRANSP:TRANSPARENT
X-MICROSOFT-CDO-ALLDAYEVENT:TRUE
SUMMARY:Miracle on St. Francois st.
DESCRIPTION:Join us for a parade\, tree lighting\, music\, vendors\, crafts\, food and drinks\, Santa's workshop and more! Presented by Florissant Old Town Partners\, Florissant Valley of Flowers\, Old St. Ferdinand Shrine\, and the City of Florissant.
X-ALT-DESC;FMTTYPE=text/html:Join us for a parade\, tree lighting\, music\, vendors\, crafts\, food and drinks\, Santa&#39\;s workshop and more! Presented by Florissant Old Town Partners\, Florissant Valley of Flowers\, Old St. Ferdinand Shrine\, and the City of Florissant.&nbsp\;
LOCATION:St. Francois St\, Florissant\, MO 63031
UID:e.1302.21269
SEQUENCE:3
DTSTAMP:20260421T092306Z
URL:https://public.greaternorthcountychamber.com/events/details/miracle-on-st-francois-st-21269
END:VEVENT

END:VCALENDAR
