BEGIN:VCALENDAR
VERSION:2.0
PRODID:-//ChamberMaster//Event Calendar 2.0//EN
METHOD:PUBLISH
X-PUBLISHED-TTL:P3D
REFRESH-INTERVAL:P3D
CALSCALE:GREGORIAN
BEGIN:VEVENT
DTSTART:20240821T150000Z
DTEND:20240821T160000Z
X-MICROSOFT-CDO-ALLDAYEVENT:FALSE
SUMMARY:Member Orientation
DESCRIPTION:Members\, both new & old\, are invited to attend this orientation to learn more about what benefits the chamber offers its members.\n\n\n\nSeating is limited\, so please register ASAP.
X-ALT-DESC;FMTTYPE=text/html:Members\, both new &amp\; old\, are invited to attend this orientation to learn more about what benefits the chamber offers its members.<br />\n<br />\nSeating is limited\, so please register ASAP.<br />\n<br />\n&nbsp\;
LOCATION:Catering to You Event Venue & Catering 12775 New Halls Ferry Rd. Florissant\, MO 63033
UID:e.1302.21213
SEQUENCE:3
DTSTAMP:20260421T132904Z
URL:https://public.greaternorthcountychamber.com/events/details/member-orientation-21213
END:VEVENT

END:VCALENDAR
