BEGIN:VCALENDAR
VERSION:2.0
PRODID:-//ChamberMaster//Event Calendar 2.0//EN
METHOD:PUBLISH
X-PUBLISHED-TTL:P3D
REFRESH-INTERVAL:P3D
CALSCALE:GREGORIAN
BEGIN:VEVENT
DTSTART:20220518T160000Z
DTEND:20220518T180000Z
X-MICROSOFT-CDO-ALLDAYEVENT:FALSE
SUMMARY:May Membership Luncheon
DESCRIPTION:May 2022 Luncheon\n\n\n\nWednesday\, May 18th\n\n11:00 am to 1:00 pm\n\nCatering to You Banquet Center\n\n\n\n$25 per person\n\nPlease pay online as payment will not be accepted at check-in.\n\n \n\nProgram:\n\nReal Estate Update\n\n\n\nSponsors:\n\nGet Well Family Chiropractic\n\nMidland States Bank\n\n\n\nNon-Profit:\n\nOld Jamestown Association\n\n\n\n**Reservations are required\n\n**WALK-INS WILL NOT BE ALLOWED
X-ALT-DESC;FMTTYPE=text/html:<span style="color:#0000FF\;"><strong><em><u><span style="font-family:arial\,sans-serif\;"><span style="font-size:16.5pt\;">May 2022 Luncheon</span></span></u></em></strong></span><br />\n<br />\n<span style="color:#333333\;"><span style="font-family:arial\,sans-serif\;"><span style="font-size:13.5pt\;">Wednesday\, May 18th<br />\n11:00 am to 1:00 pm<br />\nCatering to You Banquet Center<br />\n<br />\n$25 per person<br />\n<em>Please pay online as payment will not be accepted at check-in.</em></span></span></span><br />\n&nbsp\;<br />\n<strong><em><u><span style="background:yellow\;"><span style="color:black\;"><span style="font-family:arial\,sans-serif\;"><span style="font-size:12.0pt\;">Program:</span></span></span></span></u></em></strong><br />\n<span style="color:black\;"><span style="font-family:arial\,sans-serif\;"><span style="font-size:12.0pt\;">Real Estate Update<br />\n<br />\n<u><strong><span style="background-color:#FFFF00\;">Sponsors:</span></strong></u><br />\nGet Well Family Chiropractic<br />\nMidland States Bank<br />\n<br />\n<u><strong><span style="background-color:#FFFF00\;">Non-Profit:</span></strong></u><br />\nOld Jamestown Association<br />\n<br />\n**Reservations are required<br />\n<strong><em>**WALK-INS WILL NOT BE ALLOWED</em></strong></span></span></span>
LOCATION:Catering to You 12775 New Halls Ferry Rd.
UID:e.1302.20539
SEQUENCE:3
DTSTAMP:20260424T162322Z
URL:https://public.greaternorthcountychamber.com/events/details/may-membership-luncheon-20539
END:VEVENT

END:VCALENDAR
