BEGIN:VCALENDAR
VERSION:2.0
PRODID:-//ChamberMaster//Event Calendar 2.0//EN
METHOD:PUBLISH
X-PUBLISHED-TTL:P3D
REFRESH-INTERVAL:P3D
CALSCALE:GREGORIAN
BEGIN:VEVENT
DTSTART:20210313T010000Z
DTEND:20210313T013000Z
X-MICROSOFT-CDO-ALLDAYEVENT:FALSE
SUMMARY:Marygrove's Virtual Bloom 2021: Roaring 20's
DESCRIPTION:Marygrove's signature gala event\, Bloom\, is going virtual! Join us we celebrate our work to provide hope and healing in the lives of children and youth in need. Marygrove's Virtual Bloom 2021: Roaring 20's is scheduled for March 12\, 2021 at 7PM CST. Your virtual Bloom experience will include a 3-course gourmet meal from the Four Seasons\, access to bid on a selection of robust auction items\, access to the pre-event\, and an engaging live program! We are looking forward to an exciting virtual experience and would be honored to have you join us! To learn more and REGISTER TO ATTEND\, please visit our VIRTUAL Bloom event website at http://bloom2021.givesmart.com/.
X-ALT-DESC;FMTTYPE=text/html:<span style="color:#050505"><span style="font-family:segoe ui\,sans-serif"><span style="font-size:12.0pt">Marygrove&rsquo\;s signature gala event\, Bloom\, is going virtual! Join us we celebrate our work to provide hope and healing in the lives of children and youth in need. Marygrove&#39\;s Virtual Bloom 2021: Roaring 20&rsquo\;s</span></span></span> <span style="color:#050505"><span style="font-family:segoe ui\,sans-serif"><span style="font-size:12.0pt">is scheduled for <strong>March 12\, 2021</strong> at 7PM CST. Your virtual Bloom experience will include a 3-course gourmet meal from the Four Seasons\, access to bid on a selection of robust auction items\, access to the pre-event\, and an engaging live program! We are looking forward to an exciting virtual experience and would be honored to have you join us! To learn more and REGISTER TO ATTEND\, please visit our VIRTUAL Bloom event website at&nbsp\;<a href="http://bloom2021.givesmart.com/?fbclid=IwAR0TY5IwOQwjGZixuO_7gonXASKOpGeNFWviMC9RHOWDsoBf3OQSJxW1MRg" target="_blank"><span style="color:blue">http://bloom2021.givesmart.com/</span></a>.</span></span></span>
LOCATION:Virtual Event
UID:e.1302.20253
SEQUENCE:3
DTSTAMP:20260425T125001Z
URL:https://public.greaternorthcountychamber.com/events/details/marygrove-s-virtual-bloom-2021-roaring-20-s-20253
END:VEVENT

END:VCALENDAR
