BEGIN:VCALENDAR
VERSION:2.0
PRODID:-//ChamberMaster//Event Calendar 2.0//EN
METHOD:PUBLISH
X-PUBLISHED-TTL:P3D
REFRESH-INTERVAL:P3D
CALSCALE:GREGORIAN
BEGIN:VEVENT
DTSTART:20240923T150000Z
DTEND:20240924T020000Z
X-MICROSOFT-CDO-ALLDAYEVENT:FALSE
SUMMARY:Marygrove Golf Tournament
DESCRIPTION:This golf and pickleball tournament is instrumental in providing treatment and support to children and young adults struggling with mental and behavioral issues resulting from abuse\, neglect\, abandonment\, or other trauma. Sign up to play either the 18-hole Championship Course or the 9-hole Valley Course You will enjoy many great activities on the course including food stations\, beverage carts\, longest drive and closest to the pin contests\, and more! We are very excited to bring back the pickleball scramble to our tournament this year. An open house cocktail par-tee on the patio will follow!
X-ALT-DESC;FMTTYPE=text/html:This golf and pickleball tournament is instrumental in providing treatment and support to children and young adults struggling with mental and behavioral issues resulting from abuse\, neglect\, abandonment\, or other trauma. Sign up to play either the 18-hole Championship Course or the 9-hole Valley Course You will enjoy many great activities on the course including food stations\, beverage carts\, longest drive and closest to the pin contests\, and more! We are very excited to bring back the pickleball scramble to our tournament this year. An open house cocktail par-tee on the patio will follow!
LOCATION:Forest Hills Country Club
UID:e.1302.21212
SEQUENCE:3
DTSTAMP:20260421T120026Z
URL:https://public.greaternorthcountychamber.com/events/details/marygrove-golf-tournament-21212
END:VEVENT

END:VCALENDAR
