BEGIN:VCALENDAR
VERSION:2.0
PRODID:-//ChamberMaster//Event Calendar 2.0//EN
METHOD:PUBLISH
X-PUBLISHED-TTL:P3D
REFRESH-INTERVAL:P3D
CALSCALE:GREGORIAN
BEGIN:VEVENT
DTSTART:20210317T160000Z
DTEND:20210317T180000Z
X-MICROSOFT-CDO-ALLDAYEVENT:FALSE
SUMMARY:March Membership Luncheon
DESCRIPTION:March 2021 Membership Luncheon\n\nWednesday\, March 17th\, 2021\n\n11:30 am to 1:00 pm\n\nOrlando's Catering & Event Centers \n\n2050 Dorsett Village (63043) \n\n\n\n$25 per person\n\nPlease pay online as payment will not be accepted at check-in.\n\n \n\nProgram: Best of North County \n\nSponsor: Community News\n\nNon-Profit: Florissant Kiwanis\n\n\n\n**Masks will be required to be worn\n\n**Temperatures will be checked at the door\n\n**Reservations are required\n\n**WALK-INS WILL NOT BE ALLOWED
X-ALT-DESC;FMTTYPE=text/html:<span style="font-family:times new roman\;"><strong><em><u><span style="color:purple\;"><span style="font-size:16.5pt\;">March 2021 Membership Luncheon</span></span></u></em></strong><br />\n<span style="color:#333333\;"><span style="font-size:13.5pt\;">Wednesday\, March 17th\, 2021<br />\n11:30 am to 1:00 pm<br />\nOrlando&#39\;s Catering &amp\; Event Centers&nbsp\;<br />\n2050 Dorsett Village (63043)&nbsp\;<br />\n<br />\n$25 per person<br />\n<em>Please pay online as payment will not be accepted at check-in.</em></span></span><br />\n&nbsp\;<br />\n<strong><span style="background:yellow\;"><span style="font-size:12.0pt\;"><span style="background-color:#FFFF00\;">Program:</span><span style="background-color:#FFFFFF\;">&nbsp\;Best of North County</span></span></span><span style="font-size:12pt\;"><span style="background-color:#FFFFFF\;">&nbsp\;</span><br />\n<span style="background-color:#FFFF00\;">Sponsor:</span> Community News<br />\n<span style="background-color:#FFFF00\;">Non-Profit:</span> Florissant Kiwanis</span></strong><br />\n<br />\n<span style="color:black\;"><span style="font-size:12.0pt\;">**Masks will be required to be worn<br />\n**Temperatures will be checked at the door<br />\n**Reservations are required<br />\n<strong><em>**WALK-INS WILL NOT BE ALLOWED</em></strong></span></span></span>
LOCATION:Orlando's Catering & Event Centers 2050 Dorsett Village (63043)
UID:e.1302.20244
SEQUENCE:3
DTSTAMP:20260425T124824Z
URL:https://public.greaternorthcountychamber.com/events/details/march-membership-luncheon-20244
END:VEVENT

END:VCALENDAR
