BEGIN:VCALENDAR
VERSION:2.0
PRODID:-//ChamberMaster//Event Calendar 2.0//EN
METHOD:PUBLISH
X-PUBLISHED-TTL:P3D
REFRESH-INTERVAL:P3D
CALSCALE:GREGORIAN
BEGIN:VEVENT
DTSTART:20220316T163000Z
DTEND:20220316T180000Z
X-MICROSOFT-CDO-ALLDAYEVENT:FALSE
SUMMARY:March 2022 Membership Luncheon
DESCRIPTION:March 2022 Membership Luncheon\n\nWednesday\, March 16th\, 2022\n\nProgram 11:30 am to 1:00 pm\n\nRegistration & networking begin at 11.\n\nGlen Echo Country Club\n\n\n\n$25 per person\n\n\n\nPlease pay online as payment will not be accepted at check-in.\n\n \n\nSponsor:\n\nDelmar Mortgage\n\nSt John Bank \n\n\n\nProgram:\n\nLunch & Learn \n\n\n\nNon-Profit:\n\nRebuilding Together St. Louis\n\n\n\n**Reservations are required\n\n**WALK-INS WILL NOT BE ALLOWED
X-ALT-DESC;FMTTYPE=text/html:<span style="color:#008080\;"><strong style="color:rgb(51\, 51\, 51)\;font-family:sans-serif\, Arial\, Verdana\, Trebuchet MS\;font-size:13px\;"><em><u><span style="font-family:arial\,sans-serif\;"><span style="font-size:16.5pt\;">March 2022 Membership Luncheon</span></span></u></em></strong></span><br style="color:rgb(51\, 51\, 51)\;font-family:sans-serif\, Arial\, Verdana\, Trebuchet MS\;font-size:13px\;" />\n<span style="font-size:13px\;"><span style="font-family:sans-serif\,arial\,verdana\,trebuchet ms\;"><span style="color:#333333\;"><span style="font-family:arial\,sans-serif\;"><span style="font-size:13.5pt\;">Wednesday\, March 16th\, 2022<br />\nProgram 11:30 am to 1:00 pm<br />\nRegistration &amp\; networking begin at 11.</span></span></span></span></span><br style="color:rgb(51\, 51\, 51)\;font-family:sans-serif\, Arial\, Verdana\, Trebuchet MS\;font-size:13px\;" />\n<span style="font-size:13px\;"><span style="font-family:sans-serif\,arial\,verdana\,trebuchet ms\;"><span style="color:#333333\;"><span style="font-family:arial\,sans-serif\;"><span style="font-size:13.5pt\;">Glen Echo Country Club<br />\n<br />\n$25 per person</span></span></span></span></span><br style="color:rgb(51\, 51\, 51)\;font-family:sans-serif\, Arial\, Verdana\, Trebuchet MS\;font-size:13px\;" />\n<br style="color:rgb(51\, 51\, 51)\;font-family:sans-serif\, Arial\, Verdana\, Trebuchet MS\;font-size:13px\;" />\n<span style="font-size:13px\;"><span style="font-family:sans-serif\,arial\,verdana\,trebuchet ms\;"><span style="color:#333333\;"><span style="font-family:arial\,sans-serif\;"><span style="font-size:13.5pt\;"><em>Please pay online as payment will not be accepted at check-in.</em></span></span></span></span></span><br style="color:rgb(51\, 51\, 51)\;font-family:sans-serif\, Arial\, Verdana\, Trebuchet MS\;font-size:13px\;" />\n&nbsp\;<br style="color:rgb(51\, 51\, 51)\;font-family:sans-serif\, Arial\, Verdana\, Trebuchet MS\;font-size:13px\;" />\n<strong style="color:rgb(51\, 51\, 51)\;font-family:sans-serif\, Arial\, Verdana\, Trebuchet MS\;font-size:13px\;"><em><u><span style="background:yellow\;"><span style="color:black\;"><span style="font-family:arial\,sans-serif\;"><span style="font-size:12pt\;">Sponsor:</span></span></span></span></u></em></strong><br style="color:rgb(51\, 51\, 51)\;font-family:sans-serif\, Arial\, Verdana\, Trebuchet MS\;font-size:13px\;" />\n<span style="font-size:13px\;"><span style="font-family:sans-serif\,arial\,verdana\,trebuchet ms\;"><span style="font-family:arial\,sans-serif\;"><span style="font-size:12pt\;">Delmar Mortgage<br />\nSt John Bank&nbsp\;</span></span></span></span><br />\n<br style="color:rgb(51\, 51\, 51)\;font-family:sans-serif\, Arial\, Verdana\, Trebuchet MS\;font-size:13px\;" />\n<strong style="color:rgb(51\, 51\, 51)\;font-family:sans-serif\, Arial\, Verdana\, Trebuchet MS\;font-size:13px\;"><em><u><span style="background:yellow\;"><span style="color:black\;"><span style="font-family:arial\,sans-serif\;"><span style="font-size:12pt\;">Program:</span></span></span></span></u></em></strong><br style="color:rgb(51\, 51\, 51)\;font-family:sans-serif\, Arial\, Verdana\, Trebuchet MS\;font-size:13px\;" />\n<span style="font-size:13px\;"><span style="font-family:sans-serif\,arial\,verdana\,trebuchet ms\;"><span style="color:#333333\;"><span style="font-family:arial\,sans-serif\;"><span style="font-size:12pt\;">Lunch &amp\; Learn&nbsp\;</span></span></span></span></span><br />\n<br style="color:rgb(51\, 51\, 51)\;font-family:sans-serif\, Arial\, Verdana\, Trebuchet MS\;font-size:13px\;" />\n<strong style="color:rgb(51\, 51\, 51)\;font-family:sans-serif\, Arial\, Verdana\, Trebuchet MS\;font-size:13px\;"><em><u><span style="background:yellow\;"><span style="color:black\;"><span style="font-family:arial\,sans-serif\;"><span style="font-size:12pt\;">Non-Profit:</span></span></span></span></u></em></strong><br style="color:rgb(51\, 51\, 51)\;font-family:sans-serif\, Arial\, Verdana\, Trebuchet MS\;font-size:13px\;" />\nRebuilding Together St. Louis<br style="color:rgb(51\, 51\, 51)\;font-family:sans-serif\, Arial\, Verdana\, Trebuchet MS\;font-size:13px\;" />\n<br style="color:rgb(51\, 51\, 51)\;font-family:sans-serif\, Arial\, Verdana\, Trebuchet MS\;font-size:13px\;" />\n<span style="font-size:13px\;"><span style="font-family:sans-serif\,arial\,verdana\,trebuchet ms\;"><span style="font-family:arial\,sans-serif\;"><span style="font-size:12pt\;">**Reservations are required<br />\n<strong><em>**WALK-INS WILL NOT BE ALLOWED</em></strong></span></span></span></span>
LOCATION:Glen Echo Country Club
UID:e.1302.20340
SEQUENCE:3
DTSTAMP:20260424T175749Z
URL:https://public.greaternorthcountychamber.com/events/details/march-2022-membership-luncheon-20340
END:VEVENT

END:VCALENDAR
