BEGIN:VCALENDAR
VERSION:2.0
PRODID:-//ChamberMaster//Event Calendar 2.0//EN
METHOD:PUBLISH
X-PUBLISHED-TTL:P3D
REFRESH-INTERVAL:P3D
CALSCALE:GREGORIAN
BEGIN:VEVENT
DTSTART:20241010T170000Z
DTEND:20241010T180000Z
X-MICROSOFT-CDO-ALLDAYEVENT:FALSE
SUMMARY:Leads Group 2
DESCRIPTION:Leads Group 2\n\nJoin a Leads Group and generate referrals for your business!\n\nEmail GrimmD@danielandhenry.com for more info.
X-ALT-DESC;FMTTYPE=text/html:<div style="text-align: center\;">Leads Group 2<br />\nJoin a Leads Group and generate referrals for your business!<br />\nEmail GrimmD@danielandhenry.com for more info.</div>\n
LOCATION:Chamber Office
UID:e.1302.21058
SEQUENCE:3
DTSTAMP:20260421T103921Z
URL:https://public.greaternorthcountychamber.com/events/details/leads-group-2-10-10-2024-21058
END:VEVENT

END:VCALENDAR
