BEGIN:VCALENDAR
VERSION:2.0
PRODID:-//ChamberMaster//Event Calendar 2.0//EN
METHOD:PUBLISH
X-PUBLISHED-TTL:P3D
REFRESH-INTERVAL:P3D
CALSCALE:GREGORIAN
BEGIN:VEVENT
DTSTART:20201119T133000Z
DTEND:20201119T143000Z
X-MICROSOFT-CDO-ALLDAYEVENT:FALSE
SUMMARY:Leads Group 1
DESCRIPTION:Leads Group 1
X-ALT-DESC;FMTTYPE=text/html:<div style="text-align: center\;">Leads Group 1</div>\n
LOCATION:Helfer's Pastries & Deli 380 St. Ferdinand St. Florissant\, MO 63031
UID:e.1302.19508
SEQUENCE:3
DTSTAMP:20260425T211222Z
URL:https://public.greaternorthcountychamber.com/events/details/leads-group-1-11-19-2020-19508
END:VEVENT

END:VCALENDAR
