BEGIN:VCALENDAR
VERSION:2.0
PRODID:-//ChamberMaster//Event Calendar 2.0//EN
METHOD:PUBLISH
X-PUBLISHED-TTL:P3D
REFRESH-INTERVAL:P3D
CALSCALE:GREGORIAN
BEGIN:VEVENT
DTSTART:20220721T190000Z
DTEND:20220721T230000Z
X-MICROSOFT-CDO-ALLDAYEVENT:FALSE
SUMMARY:Job Fair: Special School District
DESCRIPTION:Be part of something special! Join us at the Special School District Job Fair\, July 21\, 2-6 PM at Northview High School\, 1520 Derhake Road\, St. Louis\, MO\, 63033. Our District is seeking to fill openings for teacher assistants and aides\, bus drivers and monitors\, registered nurses\, and several other key positions. Learn about our generous benefits that start on your first day of work\, competitive salaries\, and our collaborative and supportive culture while submitting your application. View all our current opportunities at ssdmo.org/careers.
X-ALT-DESC;FMTTYPE=text/html:<span style="color:rgb(5\, 5\, 5)\; font-family:arial\,sans-serif\; font-size:11.5pt">Be part of something special! Join us at the Special School District Job Fair\, July 21\, 2-6 PM at Northview High School\, 1520 Derhake Road\, St. Louis\, MO\, 63033. Our District is seeking to fill openings for teacher assistants and aides\, bus drivers and monitors\, registered nurses\, and several other key positions. Learn about our generous benefits that start on your first day of work\, competitive salaries\, and our collaborative and supportive culture while submitting your application. View all our current opportunities at&nbsp\;</span><a href="http://ssdmo.org/careers?fbclid=IwAR0oGyOYcLaLwEnEeK3l_mSYJHaXHfVf4l0Ii6JyAMNDSyyo4HL4S-K3moc" style="color: rgb(5\, 99\, 193)\; font-family: Calibri\, sans-serif\; font-size: 14.6667px\; text-size-adjust: auto\;" target="_blank" title="http://ssdmo.org/careers?fbclid=IwAR0oGyOYcLaLwEnEeK3l_mSYJHaXHfVf4l0Ii6JyAMNDSyyo4HL4S-K3moc"><span style="font-family:arial\,sans-serif\; font-size:11.5pt">ssdmo.org/careers</span></a><span style="color:rgb(5\, 5\, 5)\; font-family:arial\,sans-serif\; font-size:11.5pt">.</span>
LOCATION:Northview High School 1520 Derhake Road St. Louis\, MO\, 63033
UID:e.1302.20657
SEQUENCE:3
DTSTAMP:20260424T114035Z
URL:https://public.greaternorthcountychamber.com/events/details/job-fair-special-school-district-07-21-2022-20657
END:VEVENT

END:VCALENDAR
