BEGIN:VCALENDAR
VERSION:2.0
PRODID:-//ChamberMaster//Event Calendar 2.0//EN
METHOD:PUBLISH
X-PUBLISHED-TTL:P3D
REFRESH-INTERVAL:P3D
CALSCALE:GREGORIAN
BEGIN:VEVENT
DTSTART:20220113T230000Z
DTEND:20220114T010000Z
X-MICROSOFT-CDO-ALLDAYEVENT:FALSE
SUMMARY:January Business After Hours
DESCRIPTION:Join us for apps\, drinks & some laid-back networking at "Off the Clock" (previously known as Business After-Hours)!
X-ALT-DESC;FMTTYPE=text/html:Join us for apps\, drinks &amp\; some laid-back networking at &quot\;Off the Clock&quot\; (previously known as Business After-Hours)!
LOCATION:Chamber Office
UID:e.1302.20335
SEQUENCE:3
DTSTAMP:20260424T205141Z
URL:https://public.greaternorthcountychamber.com/events/details/january-business-after-hours-20335
END:VEVENT

END:VCALENDAR
