BEGIN:VCALENDAR
VERSION:2.0
PRODID:-//ChamberMaster//Event Calendar 2.0//EN
METHOD:PUBLISH
X-PUBLISHED-TTL:P3D
REFRESH-INTERVAL:P3D
CALSCALE:GREGORIAN
BEGIN:VEVENT
DTSTART:20220509T160000Z
DTEND:20220509T170000Z
X-MICROSOFT-CDO-ALLDAYEVENT:FALSE
SUMMARY:Jamestown Mall Site Feasibility Study Meeting
DESCRIPTION:The St. Louis County Port Authority is conducting a Market Analysis and Feasibility Study for the Jamestown Mall site. The study combines an in-depth market analysis with a robust community engagement process designed to determine a commercially viable land use that reflects community feedback.\n\n \n\nAs part of the study's engagement process\, the planning team is conducting a series of small group discussions in late April and May. They have asked to have a small group discussion with Chamber members. These small group discussions are limited to 10-15 attendees to ensure a robust conversation.\n\n \n\nWe would like to invite you to the Chamber's small group meeting about Jamestown Mall on Monday\, May 9th at 11 AM. The meeting will last about an hour and will be held at the Chamber's office.\n\n \n\nYou can learn more about the Jamestown Mall Market Analysis and Feasibility Study at www.ImagineJamestownMall.com. The process will include a public open house in late June and a second public open house later in the Summer. The process is expected to be finished by early Fall.
X-ALT-DESC;FMTTYPE=text/html:<div>The St. Louis County Port Authority is conducting a Market Analysis and Feasibility Study for the Jamestown Mall site.&nbsp\;The study combines an in-depth market analysis with a robust community engagement process designed to determine a commercially viable land use that reflects community feedback.</div>\n\n<div>&nbsp\;</div>\n\n<div>As part of the study&rsquo\;s engagement process\, the planning team is conducting a series of small group discussions in late April and May.&nbsp\;They have asked to have a small group discussion with Chamber members.&nbsp\;These small group discussions are limited to 10-15 attendees to ensure a robust conversation.</div>\n\n<div>&nbsp\;</div>\n\n<div>We would like to invite you to the Chamber&#39\;s small group meeting about Jamestown Mall on Monday\, May 9th at 11 AM.&nbsp\;The meeting will last about an hour and will be held at the Chamber&#39\;s office.</div>\n\n<div>&nbsp\;</div>\n\n<div>You can learn more about the Jamestown Mall Market Analysis and Feasibility Study at <a href="http://www.imaginejamestownmall.com/" rel="noopener noreferrer" style="color: rgb(94\, 129\, 202)\;" target="_blank">www.ImagineJamestownMall.com</a>.&nbsp\;The process will include a public open house in late June and a second public open house later in the Summer.&nbsp\;The process is expected to be finished by early Fall.&nbsp\;&nbsp\;</div>\n\n<div>&nbsp\;</div>\n
LOCATION:Greater North County Chamber 420 W Washington Street Florissant\, MO 63031
UID:e.1302.20583
SEQUENCE:3
DTSTAMP:20260424T145852Z
URL:https://public.greaternorthcountychamber.com/events/details/jamestown-mall-site-feasibility-study-meeting-20583
END:VEVENT

END:VCALENDAR
