BEGIN:VCALENDAR
VERSION:2.0
PRODID:-//ChamberMaster//Event Calendar 2.0//EN
METHOD:PUBLISH
X-PUBLISHED-TTL:P3D
REFRESH-INTERVAL:P3D
CALSCALE:GREGORIAN
BEGIN:VEVENT
DTSTART:20220731T140000Z
DTEND:20220731T170000Z
X-MICROSOFT-CDO-ALLDAYEVENT:FALSE
SUMMARY:JACCK Foundation for the Arts Charity 5K Run & Walk: Art is Healing
DESCRIPTION:This is a Charity Event for the benefit of JACCK Foundation for the Arts which will be located inside of JACCK Art Studio at 20 Patterson Plaza Florissant\, MO 63031 beginning this Summer!\n\n\n\n \n\n\n\nFunds will be utilized to:\n\n\n\n	\n	Provide Free Art Initiatives every Sunday at JACCK Art Studio\n	\n	\n	Provide Free Paint Sessions for Seniors 55+ every Wednesday at JACCK Art Studio\n	\n	Provide Four $1000 Scholarships to Students pursuing an Education in Art at the College Level\n\nSponsorship Opportunities:\n\n\n	Event Sponsor $250\n\n	\n		Event entrance signage\n		T-shirt Logo placement\n		Flyer Logo placement\n		Table signage placement\n	\n	\n	?Checkpoint Sponsor $150?\n	\n		Flyer logo placement\n		Checkpoint Table Signage Placement\n		Johnny-on-the spot Ad Placement\n	\n	\n	?Gift Card Sponsor $20-$50\n	\n		?Flyer Logo Placement\n		Verbal Recognition\n	\n	\n\n\n\n*Volunteers are greatly appreciated as well. Please contact Claire McGale at 314.406.5584 for any further questions or concerns!\n\n\n\nLearn More about JACCK Foundation for the Arts at http://jacckartstudio.com/foundation
X-ALT-DESC;FMTTYPE=text/html:<div>\n<div><span style="font-family:arial\,helvetica\,sans-serif">This is a Charity Event for the benefit of JACCK Foundation for the Arts which will be located inside of JACCK Art Studio at 20 Patterson Plaza Florissant\, MO 63031 beginning this Summer!</span></div>\n</div>\n\n<div>\n<div>&nbsp\;</div>\n</div>\n\n<div>\n<div><em><strong>Funds will be utilized to</strong></em>:</div>\n</div>\n\n<ul>\n	<li>\n	<div>Provide Free Art Initiatives every Sunday at JACCK Art Studio</div>\n	</li>\n	<li>\n	<div>Provide Free Paint Sessions for Seniors 55+ every Wednesday at JACCK Art Studio</div>\n	</li>\n	<li>Provide Four $1000 Scholarships to Students pursuing an Education in Art at the College Level</li>\n</ul>\n<em><strong>Sponsorship Opportunities</strong></em>:\n\n<ul>\n	<li><strong>Event Sponsor</strong> $250\n\n	<ul>\n		<li><span style="color:rgb(0\, 0\, 0)">Event entrance signage</span></li>\n		<li><span style="color:rgb(0\, 0\, 0)">T-shirt Logo placement</span></li>\n		<li><span style="color:rgb(0\, 0\, 0)">Flyer Logo placement</span></li>\n		<li><span style="color:rgb(0\, 0\, 0)">Table signage placement</span></li>\n	</ul>\n	</li>\n	<li><span style="color:rgb(0\, 0\, 0)">?<strong>Checkpoint Sponsor</strong> $150</span><span style="color:rgb(0\, 0\, 0)">?</span>\n	<ul>\n		<li><span style="color:rgb(0\, 0\, 0)">Flyer logo placement</span></li>\n		<li><span style="color:rgb(0\, 0\, 0)">Checkpoint Table Signage Placement</span></li>\n		<li><span style="color:rgb(0\, 0\, 0)">Johnny-on-the spot Ad Placement</span></li>\n	</ul>\n	</li>\n	<li><span style="color:rgb(0\, 0\, 0)">?<strong>Gift Card Sponsor</strong> $20-$50</span>\n	<ul>\n		<li><span style="color:rgb(0\, 0\, 0)">?</span><span style="color:rgb(0\, 0\, 0)">Flyer Logo Placement</span></li>\n		<li><span style="color:rgb(0\, 0\, 0)">Verbal Recognition</span></li>\n	</ul>\n	</li>\n</ul>\n<br />\n<em>*Volunteers are greatly appreciated as well. Please contact Claire McGale at 314.406.5584 for any further questions or concerns!</em><br />\n<br />\n<strong>Learn More about JACCK Foundation for the Arts at</strong>&nbsp\;<a href="http://jacckartstudio.com/foundation">http://jacckartstudio.com/foundation</a>
LOCATION:Sioux Passage Park Lenz Shelter 17930 Old Jamestown Rd\, Florissant\, MO 63034
UID:e.1302.20550
SEQUENCE:3
DTSTAMP:20260424T115709Z
URL:https://public.greaternorthcountychamber.com/events/details/jacck-foundation-for-the-arts-charity-5k-run-walk-art-is-healing-20550
END:VEVENT

END:VCALENDAR
