BEGIN:VCALENDAR
VERSION:2.0
PRODID:-//ChamberMaster//Event Calendar 2.0//EN
METHOD:PUBLISH
X-PUBLISHED-TTL:P3D
REFRESH-INTERVAL:P3D
CALSCALE:GREGORIAN
BEGIN:VEVENT
DTSTART:20241013T210000Z
DTEND:20241014T010000Z
X-MICROSOFT-CDO-ALLDAYEVENT:FALSE
SUMMARY:JACCK Foundation for the Arts Annual Fundraiser Bingo
DESCRIPTION:JACCK Foundation for the Arts Annual Fundraiser Bingo. Play for Household items. Sunday October 13th\, 2024 from 4pm-8pm Bingo starts at 5pm.\n\n20 Patterson Plaza Florissant\, MO 63031 314-942-1355\n\n50/50 Raffle\, Silent Auction\, Best Bingo Costume Contest\n\n$10 for 2 boards\, $3 Per extra board\, Outside Food and Drinks welcome.
X-ALT-DESC;FMTTYPE=text/html:JACCK Foundation for the Arts Annual Fundraiser Bingo. Play for Household items. Sunday October 13th\, 2024 from 4pm-8pm Bingo starts at 5pm.<br />\n20 Patterson Plaza Florissant\, MO 63031 314-942-1355<br />\n50/50 Raffle\, Silent Auction\, Best Bingo Costume Contest<br />\n$10 for 2 boards\, $3 Per extra board\, Outside Food and Drinks welcome.
LOCATION:20 Patterson Plaza Florissant\, MO 63031 314-942-1355
UID:e.1302.21166
SEQUENCE:3
DTSTAMP:20260421T104333Z
URL:https://public.greaternorthcountychamber.com/events/details/jacck-foundation-for-the-arts-annual-fundraiser-bingo-21166
END:VEVENT

END:VCALENDAR
