BEGIN:VCALENDAR
VERSION:2.0
PRODID:-//ChamberMaster//Event Calendar 2.0//EN
METHOD:PUBLISH
X-PUBLISHED-TTL:P3D
REFRESH-INTERVAL:P3D
CALSCALE:GREGORIAN
BEGIN:VEVENT
DTSTART:20240831T140000Z
DTEND:20240831T170000Z
X-MICROSOFT-CDO-ALLDAYEVENT:FALSE
SUMMARY:International Overdose Awareness Day
DESCRIPTION:Remember\, Prevent\, End the Stigma\n\nGathering at 9am \n\nTribute to Lives Lost followed by Walk at 10am\n\nBring lightly used shoes for remembrance display and donation
X-ALT-DESC;FMTTYPE=text/html:Remember\, Prevent\, End the Stigma<br />\nGathering at 9am&nbsp\;<br />\nTribute to Lives Lost followed by Walk at 10am<br />\nBring lightly used shoes for remembrance display and donation
LOCATION:Concordia Lutheran Church 505 S. Kirkwood Rd St. Louis\, MO 63122
UID:e.1302.21202
SEQUENCE:3
DTSTAMP:20260421T133118Z
URL:https://public.greaternorthcountychamber.com/events/details/international-overdose-awareness-day-21202
END:VEVENT

END:VCALENDAR
