BEGIN:VCALENDAR
VERSION:2.0
PRODID:-//ChamberMaster//Event Calendar 2.0//EN
METHOD:PUBLISH
X-PUBLISHED-TTL:P3D
REFRESH-INTERVAL:P3D
CALSCALE:GREGORIAN
BEGIN:VEVENT
DTSTART:20221210T170000Z
DTEND:20221210T230000Z
X-MICROSOFT-CDO-ALLDAYEVENT:FALSE
SUMMARY:I am Me “Hidden Scars”
DESCRIPTION:Looking to the future can be daunting\, especially when we feel stuck in the past. It's easy to fall into the trap of thinking that our past will determine our future. But it doesn't have to be that way. There is always the potential for change and growth\, no matter where we've come from. This is what makes life so exciting. We never know what's around the corner.\n\n \n\nThat's why we should all make an effort to attend events that inspire us to think differently about our future. These can be anything from a motivational talk by a successful entrepreneur to a concert by a up-and-coming band. Whatever it is\, it should be something that gets us out of our comfort zone and reminds us that the future is full of possibilities. So go ahead and get your tickets today. Who knows what tomorrow might bring?\n\n \n\n \n\nThis is the link to get tickets on Eventbrite https://www.eventbrite.com/e/i-am-me-hidden-scars-tickets-432049109517\n\n This is the only way to process tickets . Please look for I am Me flyers to find out where to go the day of the event .
X-ALT-DESC;FMTTYPE=text/html:<p><span style="font-family:uictfonttextstylebody">Looking to the future can be daunting\, especially when we feel stuck in the past. It&#39\;s easy to fall into the trap of thinking that our past will determine our future. But it doesn&#39\;t have to be that way. There is always the potential for change and growth\, no matter where we&#39\;ve come from. This is what makes life so exciting. We never know what&#39\;s around the corner.</span></p>\n\n<p>&nbsp\;</p>\n\n<p><span style="font-family:uictfonttextstylebody">That&#39\;s why we should all make an effort to attend events that inspire us to think differently about our future. These can be anything from a motivational talk by a successful entrepreneur to a concert by a up-and-coming band. Whatever it is\, it should be something that gets us out of our comfort zone and reminds us that the future is full of possibilities. So go ahead and get your tickets today. Who knows what tomorrow might bring?</span></p>\n\n<p>&nbsp\;</p>\n\n<p>&nbsp\;</p>\n\n<p><span style="font-family:uictfonttextstylebody">This is the link to get tickets on Eventbrite&nbsp\;<a href="https://www.eventbrite.com/e/i-am-me-hidden-scars-tickets-432049109517">https://www.eventbrite.com/e/i-am-me-hidden-scars-tickets-432049109517</a></span></p>\n\n<p><span style="font-family:uictfonttextstylebody">&nbsp\;This is the only way to process tickets . Please look for I am Me flyers to find out where to go the day of the event .</span></p>\n
LOCATION:3674 Lindell Blvd\, St. Louis\, Mo 63108
UID:e.1302.20666
SEQUENCE:3
DTSTAMP:20260422T183519Z
URL:https://public.greaternorthcountychamber.com/events/details/i-am-me-hidden-scars-20666
END:VEVENT

END:VCALENDAR
