BEGIN:VCALENDAR
VERSION:2.0
PRODID:-//ChamberMaster//Event Calendar 2.0//EN
METHOD:PUBLISH
X-PUBLISHED-TTL:P3D
REFRESH-INTERVAL:P3D
CALSCALE:GREGORIAN
BEGIN:VEVENT
DTSTART:20240806T163000Z
DTEND:20240806T173000Z
X-MICROSOFT-CDO-ALLDAYEVENT:FALSE
SUMMARY:Hutchens Stygar Lunch and Learn Seminar
DESCRIPTION:Join us for a lunch and learn seminar on Tuesday August 6th at 11:30am at the Confluence Reception Center at Hutchens Stygar 5987 Mid Rivers Mall Dr.\, St. Charles\, MO 63304
X-ALT-DESC;FMTTYPE=text/html:Join us for a lunch and learn seminar on Tuesday August 6th at 11:30am at the Confluence Reception Center at Hutchens Stygar 5987 Mid Rivers Mall Dr.\, St. Charles\, MO 63304
LOCATION:Confluence Reception Center at Hutchens Stygar 987 Mid Rivers Mall Dr.\, St. Charles\, MO 63304
UID:e.1302.21226
SEQUENCE:3
DTSTAMP:20260421T133129Z
URL:https://public.greaternorthcountychamber.com/events/details/hutchens-stygar-lunch-and-learn-seminar-21226
END:VEVENT

END:VCALENDAR
