BEGIN:VCALENDAR
VERSION:2.0
PRODID:-//ChamberMaster//Event Calendar 2.0//EN
METHOD:PUBLISH
X-PUBLISHED-TTL:P3D
REFRESH-INTERVAL:P3D
CALSCALE:GREGORIAN
BEGIN:VEVENT
DTSTART;VALUE=DATE:20240815
DTEND;VALUE=DATE:20240816
TRANSP:TRANSPARENT
X-MICROSOFT-CDO-ALLDAYEVENT:TRUE
SUMMARY:Headshots and Highballs at Garden Plaza Florissant
DESCRIPTION:Join us for refreshing cocktails and an opportunity to update your professional headshots.
X-ALT-DESC;FMTTYPE=text/html:Join us for refreshing cocktails and an opportunity to update your professional headshots.&nbsp\;
LOCATION:GARDEN PLAZA OF FLORISSANT 1101 GARDEN PLAZA DRIVE FLORISSANT\, MO 63033
UID:e.1302.21238
SEQUENCE:3
DTSTAMP:20260421T144545Z
URL:https://public.greaternorthcountychamber.com/events/details/headshots-and-highballs-at-garden-plaza-florissant-21238
END:VEVENT

END:VCALENDAR
