BEGIN:VCALENDAR
VERSION:2.0
PRODID:-//ChamberMaster//Event Calendar 2.0//EN
METHOD:PUBLISH
X-PUBLISHED-TTL:P3D
REFRESH-INTERVAL:P3D
CALSCALE:GREGORIAN
BEGIN:VEVENT
DTSTART:20240914T200000Z
DTEND:20240915T020000Z
X-MICROSOFT-CDO-ALLDAYEVENT:FALSE
SUMMARY:Hazelwood Day 75th Anniversary
DESCRIPTION:Hazelwood Day 75th Anniversary Celebration Kick-off Saturday\, September 14\, 2024 Howdershell Park 3:00-9:00p.m. All activities are FREE to enjoy!! Performing from 3:30-6:30p.m. The Charles Glenn Group On stage 7:30-9:00p.m. Horseshoe Tournament starting at 2:00p.m. BALLOON SCULPTURES/FACE PAINTING/INFLATABLES FREE 3:00-7:00p.m. Car Show open to all makes and models\, 3:00-6:00p.m. Klondike Kid Exotics 3:30-6:30p.m. Bubble Bus 6:00-7:30p.m.
X-ALT-DESC;FMTTYPE=text/html:Hazelwood Day 75th Anniversary Celebration Kick-off Saturday\, September 14\, 2024 Howdershell Park 3:00-9:00p.m. All activities are FREE to enjoy!! Performing from 3:30-6:30p.m. The Charles Glenn Group On stage 7:30-9:00p.m. Horseshoe Tournament starting at 2:00p.m. BALLOON SCULPTURES/FACE PAINTING/INFLATABLES FREE 3:00-7:00p.m. Car Show open to all makes and models\, 3:00-6:00p.m. Klondike Kid Exotics 3:30-6:30p.m. Bubble Bus 6:00-7:30p.m.&nbsp\;
LOCATION:Howdershell Park
UID:e.1302.21236
SEQUENCE:3
DTSTAMP:20260421T132712Z
URL:https://public.greaternorthcountychamber.com/events/details/hazelwood-day-75th-anniversary-21236
END:VEVENT

END:VCALENDAR
