BEGIN:VCALENDAR
VERSION:2.0
PRODID:-//ChamberMaster//Event Calendar 2.0//EN
METHOD:PUBLISH
X-PUBLISHED-TTL:P3D
REFRESH-INTERVAL:P3D
CALSCALE:GREGORIAN
BEGIN:VEVENT
DTSTART:20220322T200000Z
DTEND:20220322T203000Z
X-MICROSOFT-CDO-ALLDAYEVENT:FALSE
SUMMARY:Hawthorne Players Ribbon Cutting
DESCRIPTION:Join us for a Ribbon Cutting to kick off the Hawthorne Player's season!
X-ALT-DESC;FMTTYPE=text/html:Join us for a Ribbon Cutting to kick off the Hawthorne Player&#39\;s season!
LOCATION:James J Eagan Center 1 James J Eagan Dr.
UID:e.1302.20535
SEQUENCE:3
DTSTAMP:20260424T175733Z
URL:https://public.greaternorthcountychamber.com/events/details/hawthorne-players-ribbon-cutting-20535
END:VEVENT

END:VCALENDAR
