BEGIN:VCALENDAR
VERSION:2.0
PRODID:-//ChamberMaster//Event Calendar 2.0//EN
METHOD:PUBLISH
X-PUBLISHED-TTL:P3D
REFRESH-INTERVAL:P3D
CALSCALE:GREGORIAN
BEGIN:VEVENT
DTSTART:20210219T000000Z
DTEND:20210219T020000Z
X-MICROSOFT-CDO-ALLDAYEVENT:FALSE
SUMMARY:Grand Center 5000 Toastmaster's
DESCRIPTION:Are you ready to practice public speaking\, improve your communication and build leadership skills? Visit Grand Center 5000 Toastmaster's Club
X-ALT-DESC;FMTTYPE=text/html:Are you ready to practice public speaking\, improve your communication and build leadership skills? Visit Grand Center 5000 Toastmaster&#39\;s Club
LOCATION:Meeting ID 894 2604 9065 Passcode 087207
UID:e.1302.20254
SEQUENCE:3
DTSTAMP:20260425T144039Z
URL:https://public.greaternorthcountychamber.com/events/details/grand-center-5000-toastmaster-s-20254
END:VEVENT

END:VCALENDAR
