BEGIN:VCALENDAR
VERSION:2.0
PRODID:-//ChamberMaster//Event Calendar 2.0//EN
METHOD:PUBLISH
X-PUBLISHED-TTL:P3D
REFRESH-INTERVAL:P3D
CALSCALE:GREGORIAN
BEGIN:VEVENT
DTSTART:20210415T230000Z
DTEND:20210416T003000Z
X-MICROSOFT-CDO-ALLDAYEVENT:FALSE
SUMMARY:Grand Center 5000 Toastmaster's
DESCRIPTION:Are interested in improving your public speaking skills\, building leadership skills\, networking in a small and supportive environment\, build self confidence and self -awareness. Come join us on the 1st & 3rd Thursday of each month at 6:00pm. It's a virtual event.
X-ALT-DESC;FMTTYPE=text/html:Are interested in improving your public speaking skills\, building leadership skills\, networking in a small and supportive environment\, build self confidence and self -awareness. Come join us on the 1st &amp\; 3rd Thursday of each month at 6:00pm. It&#39\;s a virtual event.
LOCATION:1st Thursday\, Mtg ID 899 0641 7769 PW 874 697\; 3RD Thursday\, Mtg ID 89426049065 PW 087207
UID:e.1302.20285
SEQUENCE:3
DTSTAMP:20260425T113253Z
URL:https://public.greaternorthcountychamber.com/events/details/grand-center-5000-toastmaster-s-04-15-2021-20285
END:VEVENT

END:VCALENDAR
