BEGIN:VCALENDAR
VERSION:2.0
PRODID:-//ChamberMaster//Event Calendar 2.0//EN
METHOD:PUBLISH
X-PUBLISHED-TTL:P3D
REFRESH-INTERVAL:P3D
CALSCALE:GREGORIAN
BEGIN:VEVENT
DTSTART:20210923T170000Z
DTEND:20210923T183000Z
X-MICROSOFT-CDO-ALLDAYEVENT:FALSE
SUMMARY:FUEL Luncheon
DESCRIPTION:FUEL Luncheon\n\nEvery 4th Thursday of the month!\n\n\n\n\n\nGuest Speaker:\n\nFlorissant Police Department\n\nOfficer Steven Michael
X-ALT-DESC;FMTTYPE=text/html:<div style="text-align: center\;">FUEL Luncheon<br />\nEvery 4th Thursday of the month!<br />\n<br />\n<br />\nGuest Speaker:<br />\nFlorissant Police Department<br />\nOfficer Steven Michael&nbsp\;<br />\n<br />\n&nbsp\;</div>\n
LOCATION:Cugino's
UID:e.1302.20155
SEQUENCE:3
DTSTAMP:20260425T032838Z
URL:https://public.greaternorthcountychamber.com/events/details/fuel-luncheon-09-23-2021-20155
END:VEVENT

END:VCALENDAR
