BEGIN:VCALENDAR
VERSION:2.0
PRODID:-//ChamberMaster//Event Calendar 2.0//EN
METHOD:PUBLISH
X-PUBLISHED-TTL:P3D
REFRESH-INTERVAL:P3D
CALSCALE:GREGORIAN
BEGIN:VEVENT
DTSTART:20220427T170000Z
DTEND:20220427T180000Z
X-MICROSOFT-CDO-ALLDAYEVENT:FALSE
SUMMARY:FUEL Luncheon
DESCRIPTION:Join us for lunch with FUEL (Focus\, Unite\, Engage & Lead)!
X-ALT-DESC;FMTTYPE=text/html:Join us for lunch with FUEL (Focus\, Unite\, Engage &amp\; Lead)!
LOCATION:Cugino's Restaurant
UID:e.1302.20356
SEQUENCE:3
DTSTAMP:20260424T163212Z
URL:https://public.greaternorthcountychamber.com/events/details/fuel-luncheon-04-27-2022-20356
END:VEVENT

END:VCALENDAR
