BEGIN:VCALENDAR
VERSION:2.0
PRODID:-//ChamberMaster//Event Calendar 2.0//EN
METHOD:PUBLISH
X-PUBLISHED-TTL:P3D
REFRESH-INTERVAL:P3D
CALSCALE:GREGORIAN
BEGIN:VEVENT
DTSTART:20241128T190000Z
DTEND:20241128T200000Z
X-MICROSOFT-CDO-ALLDAYEVENT:FALSE
SUMMARY:Free Thanksgiving Dinner At So Deity Diner
DESCRIPTION:Join us on Thursday November 28th from 1-2pm at So Deity Diner located at 35 Florissant Oaks Shopping Center\, Florissant\, MO 63031 for a free Thanksgiving Dinner!
X-ALT-DESC;FMTTYPE=text/html:<span style="color: rgb(0\, 0\, 0)\; font-family: Arial\, Verdana\, Helvetica\, sans-serif\; white-space-collapse: preserve\; font-size: 16px\;">Join us on Thursday </span><span style="color: rgb(0\, 0\, 0)\; font-family: Arial\, Verdana\, Helvetica\, sans-serif\; white-space-collapse: preserve\; font-weight: bold\; font-size: 16px\;">November 28th from 1-2pm</span><span style="color: rgb(0\, 0\, 0)\; font-family: Arial\, Verdana\, Helvetica\, sans-serif\; white-space-collapse: preserve\; font-size: 16px\;"> at So Deity Diner located at 35 Florissant Oaks Shopping Center\, Florissant\, MO 63031 for a free Thanksgiving Dinner!</span>
LOCATION:35 Florissant Oaks Shopping Center\, Florissant\, MO 63031
UID:e.1302.21433
SEQUENCE:3
DTSTAMP:20260419T181920Z
URL:https://public.greaternorthcountychamber.com/events/details/free-thanksgiving-dinner-at-so-deity-diner-21433
END:VEVENT

END:VCALENDAR
