BEGIN:VCALENDAR
VERSION:2.0
PRODID:-//ChamberMaster//Event Calendar 2.0//EN
METHOD:PUBLISH
X-PUBLISHED-TTL:P3D
REFRESH-INTERVAL:P3D
CALSCALE:GREGORIAN
BEGIN:VEVENT
DTSTART:20200912T140000Z
DTEND:20200912T170000Z
X-MICROSOFT-CDO-ALLDAYEVENT:FALSE
SUMMARY:FREE Shred Day
DESCRIPTION:FREE SHRED DAY on Saturday\, September 12 from 9 a.m. to Noon at West Community Credit Union at 18 Mullanphy Gardens Shopping Center. Protect your identity and finances. Please stay in your car for no contact transfer.\n\nWe will have a data destruction truck in our parking lot to shred all your outdated sensitive documents for FREE. Please note\, we cannot shred cardboard boxes or ex-rays. Five box limit.\n\n\n\nFor additional locations and dates\, Visit westcommunitycu.org \n\n\n\n636-720-2400
X-ALT-DESC;FMTTYPE=text/html:<big><strong>FREE SHRED DAY</strong> on Saturday\, September 12 from 9 a.m. to Noon at West Community Credit Union at 18 Mullanphy Gardens Shopping Center. Protect your identity and finances. Please stay in your car for no contact transfer.<br />\nWe will have a data destruction truck in our parking lot to shred all your outdated sensitive documents for FREE. Please note\, we cannot shred cardboard boxes or ex-rays. Five box limit.<br />\n<br />\nFor additional locations and dates\, Visit westcommunitycu.org&nbsp\;<br />\n<br />\n636-720-2400</big><br />\n<br />\n&nbsp\;
LOCATION:West Community Credit Union 18 Mullanphy Gardens Shopping Center Florissant\, MO 63031
UID:e.1302.20115
SEQUENCE:3
DTSTAMP:20260425T224944Z
URL:https://public.greaternorthcountychamber.com/events/details/free-shred-day-20115
END:VEVENT

END:VCALENDAR
