BEGIN:VCALENDAR
VERSION:2.0
PRODID:-//ChamberMaster//Event Calendar 2.0//EN
METHOD:PUBLISH
X-PUBLISHED-TTL:P3D
REFRESH-INTERVAL:P3D
CALSCALE:GREGORIAN
BEGIN:VEVENT
DTSTART:20240828T230000Z
DTEND:20240829T020000Z
X-MICROSOFT-CDO-ALLDAYEVENT:FALSE
SUMMARY:Florissant Wednesday Night Out-A Tuscan Summer Evening
DESCRIPTION:Join us for a Tuscan Summer Evening\, hosted by Red Oven Wood Fired Pizza and Purgahn and Associates on Wednesday August 28th\, 2024 from 6-9pm. There will be food and drinks galore\, along with entertainment by JigJam.\n\nThank you to our sponsors\, Goldkamp Heating & Cooling and Catering to You.
X-ALT-DESC;FMTTYPE=text/html:<div background-color:="" class="xdj266r x11i5rnm xat24cr x1mh8g0r x1vvkbs" color:="" font-size:="" segoe="" style="margin: 0px\; overflow-wrap: break-word\;" ui="">Join us for a Tuscan Summer Evening\, hosted by Red Oven Wood Fired Pizza and Purgahn and Associates on Wednesday August 28th\, 2024 from 6-9pm. There will be food and drinks galore\, along with entertainment by JigJam.</div>\n\n<div background-color:="" class="x11i5rnm xat24cr x1mh8g0r x1vvkbs xtlvy1s" color:="" font-size:="" segoe="" style="margin: 0.5em 0px 0px\; overflow-wrap: break-word\;" ui="">Thank you to our sponsors\, Goldkamp Heating &amp\; Cooling and Catering to You.</div>\n
LOCATION:Red Oven Wood Fired Pizza 315 Saint Francois St\, Florissant\, MO 63031
UID:e.1302.21249
SEQUENCE:3
DTSTAMP:20260421T144619Z
URL:https://public.greaternorthcountychamber.com/events/details/florissant-wednesday-night-out-a-tuscan-summer-evening-21249
END:VEVENT

END:VCALENDAR
