BEGIN:VCALENDAR
VERSION:2.0
PRODID:-//ChamberMaster//Event Calendar 2.0//EN
METHOD:PUBLISH
X-PUBLISHED-TTL:P3D
REFRESH-INTERVAL:P3D
CALSCALE:GREGORIAN
BEGIN:VEVENT
DTSTART:20240814T140000Z
DTEND:20240814T200000Z
X-MICROSOFT-CDO-ALLDAYEVENT:FALSE
SUMMARY:Florissant Veteran's Resource and Job fair
DESCRIPTION:In partnership with the City Of Florissant\, The Kaufman Fund\, Southern Illinois University Edwardsville Veterans Upward Bound\, and Florissant area Veterans Service Organizations you will have the opportunity to meet with Veterans\, and their families\, from the STL area who are seeking employment\, community resources and education resources. There will also be private interview rooms to connect Veterans to resources and employment. Setup from 9-10am. This is a free event but space is limited.
X-ALT-DESC;FMTTYPE=text/html:In partnership with the City Of Florissant\, The Kaufman Fund\, Southern Illinois University Edwardsville Veterans Upward Bound\, and Florissant area Veterans Service Organizations you will have the opportunity to meet with Veterans\, and their families\, from the STL area who are seeking employment\, community resources and education resources. There will also be private interview rooms to connect Veterans to resources and employment. Setup from 9-10am. This is a free event but space is limited.
LOCATION:JFK Community Center 15 Howdershell rd. Florissant\, MO 63031
UID:e.1302.21172
SEQUENCE:3
DTSTAMP:20260421T133716Z
URL:https://public.greaternorthcountychamber.com/events/details/florissant-veteran-s-resource-and-job-fair-21172
END:VEVENT

END:VCALENDAR
