BEGIN:VCALENDAR
VERSION:2.0
PRODID:-//ChamberMaster//Event Calendar 2.0//EN
METHOD:PUBLISH
X-PUBLISHED-TTL:P3D
REFRESH-INTERVAL:P3D
CALSCALE:GREGORIAN
BEGIN:VEVENT
DTSTART:20241019T160000Z
DTEND:20241019T200000Z
X-MICROSOFT-CDO-ALLDAYEVENT:FALSE
SUMMARY:Florissant Tails & Treats
DESCRIPTION:Join us for Tails and Treats on October 19th\, 2024 at St. Ferdinand Park from 11am-3pm. There will be a Halloween Pet Parade at 1pm and Prizes for best costume! All pets are welcome but must be properly contained with a leash\, harness\, or pet container.
X-ALT-DESC;FMTTYPE=text/html:Join us for Tails and Treats on October 19th\, 2024 at St. Ferdinand Park from 11am-3pm. There will be a Halloween Pet Parade at 1pm and Prizes for best costume! All pets are welcome but must be properly contained with a leash\, harness\, or pet container.
LOCATION:St. Ferdinand Park
UID:e.1302.21245
SEQUENCE:3
DTSTAMP:20260421T104526Z
URL:https://public.greaternorthcountychamber.com/events/details/florissant-tails-treats-21245
END:VEVENT

END:VCALENDAR
