BEGIN:VCALENDAR
VERSION:2.0
PRODID:-//ChamberMaster//Event Calendar 2.0//EN
METHOD:PUBLISH
X-PUBLISHED-TTL:P3D
REFRESH-INTERVAL:P3D
CALSCALE:GREGORIAN
BEGIN:VEVENT
DTSTART;VALUE=DATE:20240919
DTEND;VALUE=DATE:20240920
TRANSP:TRANSPARENT
X-MICROSOFT-CDO-ALLDAYEVENT:TRUE
SUMMARY:Florissant Senior Sip and Paint with JACCK
DESCRIPTION:Have a great time as we paint pre-printed canvas kits while sipping on great wines! Sponsored by JACCK Foundation for the Arts\, located in Florissant and featured on Today in St. Louis. JACCK's mission is to elevate\, inspire\, and stimulate the minds of our community. Enjoy painting and sipping with your friends and neighbors and bring home your masterpiece!
X-ALT-DESC;FMTTYPE=text/html:Have a great time as we paint pre-printed canvas kits while sipping on great wines! Sponsored by JACCK Foundation for the Arts\, located in Florissant and featured on Today in St. Louis. JACCK&#39\;s mission is to elevate\, inspire\, and stimulate the minds of our community. Enjoy painting and sipping with your friends and neighbors and bring home your masterpiece!&nbsp\;
LOCATION:Florissant Senior Center at JFK 315 Howdershell Rd\, Florissant\, MO 63031
UID:e.1302.21248
SEQUENCE:3
DTSTAMP:20260421T133719Z
URL:https://public.greaternorthcountychamber.com/events/details/florissant-senior-sip-and-paint-with-jacck-21248
END:VEVENT

END:VCALENDAR
