BEGIN:VCALENDAR
VERSION:2.0
PRODID:-//ChamberMaster//Event Calendar 2.0//EN
METHOD:PUBLISH
X-PUBLISHED-TTL:P3D
REFRESH-INTERVAL:P3D
CALSCALE:GREGORIAN
BEGIN:VEVENT
DTSTART:20241119T160000Z
DTEND:20241119T170000Z
X-MICROSOFT-CDO-ALLDAYEVENT:FALSE
SUMMARY:Florissant Police Dept. & FBI Senior Safety Class
DESCRIPTION:The Florissant Police Dept. and a Special Agent with the FBI will share some important tips and information focusing on Senior Safety and how to avoid scams. Please reserve your spot by calling 314-839-7605
X-ALT-DESC;FMTTYPE=text/html:The Florissant Police Dept. and a Special Agent with the FBI will share some important tips and information focusing on Senior Safety and how to avoid scams. Please reserve your spot by calling 314-839-7605
LOCATION:JFK Senior Center at 315 Howdershell rd.
UID:e.1302.21247
SEQUENCE:3
DTSTAMP:20260419T182254Z
URL:https://public.greaternorthcountychamber.com/events/details/florissant-police-dept-fbi-senior-safety-class-21247
END:VEVENT

END:VCALENDAR
