BEGIN:VCALENDAR
VERSION:2.0
PRODID:-//ChamberMaster//Event Calendar 2.0//EN
METHOD:PUBLISH
X-PUBLISHED-TTL:P3D
REFRESH-INTERVAL:P3D
CALSCALE:GREGORIAN
BEGIN:VEVENT
DTSTART:20240830T230000Z
DTEND:20240831T020000Z
X-MICROSOFT-CDO-ALLDAYEVENT:FALSE
SUMMARY:Florissant Family Night Out
DESCRIPTION:Join the City of Florissant for Family Night Out Bingo on Friday August 30th from 6-9pm at the JFK Celebration Hall! This is a free family event but registration is required.
X-ALT-DESC;FMTTYPE=text/html:Join the City of Florissant for Family Night Out Bingo on Friday August 30th from 6-9pm at the JFK Celebration Hall! This is a free family event but registration is required.&nbsp\;
LOCATION:JFK Celebration Hall 315 Howdershell Rd\, Florissant\, MO 63031
UID:e.1302.21224
SEQUENCE:3
DTSTAMP:20260421T133655Z
URL:https://public.greaternorthcountychamber.com/events/details/florissant-family-night-out-21224
END:VEVENT

END:VCALENDAR
