BEGIN:VCALENDAR
VERSION:2.0
PRODID:-//ChamberMaster//Event Calendar 2.0//EN
METHOD:PUBLISH
X-PUBLISHED-TTL:P3D
REFRESH-INTERVAL:P3D
CALSCALE:GREGORIAN
BEGIN:VEVENT
DTSTART:20240907T130000Z
DTEND:20240907T170000Z
X-MICROSOFT-CDO-ALLDAYEVENT:FALSE
SUMMARY:Ferguson Farmers Market Pawpaw Fest
DESCRIPTION:The Ferguson Farmers Market and EarthDance Organic Farm School are excited to announce the 1st Annual Pawpaw Fest\, taking place on Saturday\, September 7th\, 2024. This special event will celebrate the unique and delicious pawpaw fruit\, an indigenous treasure of Missouri.
X-ALT-DESC;FMTTYPE=text/html:The Ferguson Farmers Market and EarthDance Organic Farm School are excited to announce the 1st Annual Pawpaw Fest\, taking place on Saturday\, September 7th\, 2024. This special event will celebrate the unique and delicious pawpaw fruit\, an indigenous treasure of Missouri.&nbsp\;
LOCATION:Ferguson Farmers Market\, 501 S Florissant Rd.\, Ferguson\, Missouri\, 63135
UID:e.1302.21255
SEQUENCE:3
DTSTAMP:20260421T133655Z
URL:https://public.greaternorthcountychamber.com/events/details/ferguson-farmers-market-pawpaw-fest-21255
END:VEVENT

END:VCALENDAR
