BEGIN:VCALENDAR
VERSION:2.0
PRODID:-//ChamberMaster//Event Calendar 2.0//EN
METHOD:PUBLISH
X-PUBLISHED-TTL:P3D
REFRESH-INTERVAL:P3D
CALSCALE:GREGORIAN
BEGIN:VEVENT
DTSTART:20240928T130000Z
DTEND:20240928T170000Z
X-MICROSOFT-CDO-ALLDAYEVENT:FALSE
SUMMARY:Ferguson Farmers Market
DESCRIPTION:Be a part of the the Saturday tradition at the Ferguson Farmers Market! Support local vendors and be a part of the community!
X-ALT-DESC;FMTTYPE=text/html:Be a part of the the Saturday tradition at the Ferguson Farmers Market! Support local vendors and be a part of the community!
LOCATION:Plaza at 501 S. Florissant Rd\, Ferguson\, MO 63135
UID:e.1302.21191
SEQUENCE:3
DTSTAMP:20260421T120419Z
URL:https://public.greaternorthcountychamber.com/events/details/ferguson-farmers-market-09-28-2024-21191
END:VEVENT

END:VCALENDAR
