BEGIN:VCALENDAR
VERSION:2.0
PRODID:-//ChamberMaster//Event Calendar 2.0//EN
METHOD:PUBLISH
X-PUBLISHED-TTL:P3D
REFRESH-INTERVAL:P3D
CALSCALE:GREGORIAN
BEGIN:VEVENT
DTSTART:20240907T150000Z
DTEND:20240908T230000Z
X-MICROSOFT-CDO-ALLDAYEVENT:FALSE
SUMMARY:Ferguson City Wide Yard Sale
DESCRIPTION:Join us Saturday September 7th and Sunday September 8th from 10am-6pm for a Ferguson Community Wide Yard Sale! Register Here! or in person at 108 Church Street by August 26th to be included on the map. Follow us on Facebook and post your address and sign! For any questions please reach out to The Community Development Dept. at 314-524-5677 or jpugh@fergusoncity.com
X-ALT-DESC;FMTTYPE=text/html:<span style="color: rgb(0\, 0\, 0)\; font-family: Arial\, Verdana\, Helvetica\, sans-serif\; font-size: 14px\; white-space-collapse: preserve\;">Join us Saturday September 7th and Sunday September 8th from 10am-6pm for a Ferguson Community Wide Yard Sale! </span><a data-link-type="web" href="https://fergusonmo.viewpointcloud.com/categories/1076" rel="noopener noreferrer" style="color: rgb(247\, 186\, 62)\; font-family: Arial\, Verdana\, Helvetica\, sans-serif\; font-size: 14px\; white-space-collapse: preserve\;" target="_blank">Register Here!</a><span style="color: rgb(0\, 0\, 0)\; font-family: Arial\, Verdana\, Helvetica\, sans-serif\; font-size: 14px\; white-space-collapse: preserve\;"> or in person at 108 Church Street by August 26th to be included on the map. Follow us on Facebook and post your address and sign! For any questions please reach out to The Community Development Dept. at 314-524-5677 or jpugh@fergusoncity.com</span>
LOCATION:Ferguson\, MO
UID:e.1302.21251
SEQUENCE:3
DTSTAMP:20260421T120253Z
URL:https://public.greaternorthcountychamber.com/events/details/ferguson-city-wide-yard-sale-21251
END:VEVENT

END:VCALENDAR
