BEGIN:VCALENDAR
VERSION:2.0
PRODID:-//ChamberMaster//Event Calendar 2.0//EN
METHOD:PUBLISH
X-PUBLISHED-TTL:P3D
REFRESH-INTERVAL:P3D
CALSCALE:GREGORIAN
BEGIN:VEVENT
DTSTART:20220216T173000Z
DTEND:20220216T190000Z
X-MICROSOFT-CDO-ALLDAYEVENT:FALSE
SUMMARY:February 2022 Membership Luncheon
DESCRIPTION:February 2022 Membership Luncheon\n\nWednesday\, February 16th\, 2022\n\nProgram 11:30 am to 1:00 pm\n\nRegistration & networking begin at 11.\n\nCatering to You\n\n\n\n$25 per person\n\n\n\nPlease pay online as payment will not be accepted at check-in.\n\n \n\nSponsor:\n\nFlorissant Valley Health & Rehab\n\nProgram:\n\nJim McHugh for voter participation\n\nNon-Profit:\n\nGood Shepherd Arts Center\n\n\n\n**Reservations are required\n\n**WALK-INS WILL NOT BE ALLOWED
X-ALT-DESC;FMTTYPE=text/html:<span style="color:#008080\;"><strong><em><u><span style="font-family:arial\,sans-serif\;"><span style="font-size:16.5pt\;">February 2022 Membership Luncheon</span></span></u></em></strong></span><br />\n<span style="color:#333333\;"><span style="font-family:arial\,sans-serif\;"><span style="font-size:13.5pt\;">Wednesday\, February 16th\, 2022<br />\nProgram 11:30 am to 1:00 pm<br />\nRegistration &amp\; networking begin at 11.</span></span></span><br />\n<span style="color:#333333\;"><span style="font-family:arial\,sans-serif\;"><span style="font-size:13.5pt\;">Catering to You<br />\n<br />\n$25 per person</span></span></span><br />\n<br />\n<span style="color:#333333\;"><span style="font-family:arial\,sans-serif\;"><span style="font-size:13.5pt\;"><em>Please pay online as payment will not be accepted at check-in.</em></span></span></span><br />\n&nbsp\;<br />\n<strong><em><u><span style="background:yellow\;"><span style="color:black\;"><span style="font-family:arial\,sans-serif\;"><span style="font-size:12.0pt\;">Sponsor:</span></span></span></span></u></em></strong><br />\n<font color="#000000" face="arial\, sans-serif"><span style="font-size: 16px\;">Florissant Valley Health &amp\; Rehab</span></font><br />\n<strong style="color: rgb(51\, 51\, 51)\; font-family: sans-serif\, Arial\, Verdana\, &quot\;Trebuchet MS&quot\;\; font-size: 13px\;"><em><u><span style="background: yellow\;"><span style="color: black\;"><span style="font-family: arial\, sans-serif\;"><span style="font-size: 12pt\;">Program:</span></span></span></span></u></em></strong><br style="color: rgb(51\, 51\, 51)\; font-family: sans-serif\, Arial\, Verdana\, &quot\;Trebuchet MS&quot\;\; font-size: 13px\;" />\n<font face="arial\, sans-serif"><span style="font-size: 16px\;">Jim McHugh for voter participation</span></font><br />\n<strong style="color: rgb(51\, 51\, 51)\; font-family: sans-serif\, Arial\, Verdana\, &quot\;Trebuchet MS&quot\;\; font-size: 13px\;"><em><u><span style="background: yellow\;"><span style="color: black\;"><span style="font-family: arial\, sans-serif\;"><span style="font-size: 12pt\;">Non-Profit:</span></span></span></span></u></em></strong><br style="color: rgb(51\, 51\, 51)\; font-family: sans-serif\, Arial\, Verdana\, &quot\;Trebuchet MS&quot\;\; font-size: 13px\;" />\n<font face="arial\, sans-serif"><span style="font-size: 16px\;">Good Shepherd Arts Center</span></font><br />\n<br />\n<span style="color:black\;"><span style="font-family:arial\,sans-serif\;"><span style="font-size:12.0pt\;">**Reservations are required<br />\n<strong><em>**WALK-INS WILL NOT BE ALLOWED</em></strong></span></span></span>
LOCATION:Catering to You 12775 New Halls Ferry Rd. Florissant\, MO 63033
UID:e.1302.20339
SEQUENCE:3
DTSTAMP:20260424T192742Z
URL:https://public.greaternorthcountychamber.com/events/details/february-2022-membership-luncheon-20339
END:VEVENT

END:VCALENDAR
