BEGIN:VCALENDAR
VERSION:2.0
PRODID:-//ChamberMaster//Event Calendar 2.0//EN
METHOD:PUBLISH
X-PUBLISHED-TTL:P3D
REFRESH-INTERVAL:P3D
CALSCALE:GREGORIAN
BEGIN:VEVENT
DTSTART:20220212T160000Z
DTEND:20220212T210000Z
X-MICROSOFT-CDO-ALLDAYEVENT:FALSE
SUMMARY:Elite Events STL Pre-Valentine's Day Pop-Up Shop
DESCRIPTION:Vendors Needed - $35 registration fee includes social media marketing\, 1-table\, 2 chairs\, bottled water\, snack\, music\, and "Thank You Gift."\n\n\n\nBring plenty of inventory for Valentine's Day purchases! Register Today at www.eliteeventsstl.com.
X-ALT-DESC;FMTTYPE=text/html:<span style="color:rgb(5\, 5\, 5)\; font-family:segoe ui historic\,segoe ui\,helvetica\,arial\,sans-serif\; font-size:15px">Vendors Needed - $35 registration fee includes social media marketing\, 1-table\, 2 chairs\, bottled water\, snack\, music\, and &quot\;Thank You Gift.&quot\;</span><br />\n<br />\n<span style="color:rgb(5\, 5\, 5)\; font-family:segoe ui historic\,segoe ui\,helvetica\,arial\,sans-serif\; font-size:15px">Bring plenty of inventory for Valentine&#39\;s Day purchases! Register Today at&nbsp\;</span><span style="color:rgb(5\, 5\, 5)\; font-family:segoe ui historic\,segoe ui\,helvetica\,arial\,sans-serif\; font-size:15px"><a class="oajrlxb2 g5ia77u1 qu0x051f esr5mh6w e9989ue4 r7d6kgcz rq0escxv nhd2j8a9 nc684nl6 p7hjln8o kvgmc6g5 cxmmr5t8 oygrvhab hcukyx3x jb3vyjys rz4wbd8a qt6c0cv9 a8nywdso i1ao9s8h esuyzwwr f1sip0of lzcic4wl gpro0wi8 py34i1dx" href="http://www.eliteeventsstl.com/?fbclid=IwAR2JM1SPQaXdLDX2qLCLNbuEQ7nwXQTS3EKWPVSyF43Hmkdfwf18s8yUfLs" rel="nofollow noopener" style="color: var(--blue-link)\; cursor: pointer\; text-decoration-line: none\; outline: none\; list-style: none\; border-width: 0px\; border-style: initial\; border-color: initial\; padding: 0px\; margin: 0px\; touch-action: manipulation\; background-color: transparent\; text-align: inherit\; display: inline\; -webkit-tap-highlight-color: transparent\; box-sizing: border-box\; font-family: inherit\;" tabindex="0" target="_blank">www.eliteeventsstl.com.</a></span>
LOCATION:11726 St. Charles Rock Rd. Bridgeton\, MO 63044
UID:e.1302.20526
SEQUENCE:3
DTSTAMP:20260424T194452Z
URL:https://public.greaternorthcountychamber.com/events/details/elite-events-stl-pre-valentine-s-day-pop-up-shop-20526
END:VEVENT

END:VCALENDAR
