BEGIN:VCALENDAR
VERSION:2.0
PRODID:-//ChamberMaster//Event Calendar 2.0//EN
METHOD:PUBLISH
X-PUBLISHED-TTL:P3D
REFRESH-INTERVAL:P3D
CALSCALE:GREGORIAN
BEGIN:VEVENT
DTSTART:20220725T140000Z
DTEND:20220729T210000Z
X-MICROSOFT-CDO-ALLDAYEVENT:FALSE
SUMMARY:Eagle Lake Day Camp
DESCRIPTION:Eagle Lake Camp is here AGAIN!!! Join us for a week of FUN! \n\nAges 7-12 Last week of July! Hurry and register while we still have spots open! \n\nRegister at\n\nhttps://eaglelakecamps.com/camp/standrewumc/
X-ALT-DESC;FMTTYPE=text/html:Eagle Lake Camp is here AGAIN!!! Join us for a week of FUN!&nbsp\;<br />\nAges 7-12 Last week of July! Hurry and register while we still have spots open!&nbsp\;<br />\nRegister at<br />\nhttps://eaglelakecamps.com/camp/standrewumc/<br />\n&nbsp\;
LOCATION:3975 N. Hwy 67\, Florissant MO 63034
UID:e.1302.20655
SEQUENCE:3
DTSTAMP:20260424T113909Z
URL:https://public.greaternorthcountychamber.com/events/details/eagle-lake-day-camp-07-25-2022-20655
END:VEVENT

END:VCALENDAR
