BEGIN:VCALENDAR
VERSION:2.0
PRODID:-//ChamberMaster//Event Calendar 2.0//EN
METHOD:PUBLISH
X-PUBLISHED-TTL:P3D
REFRESH-INTERVAL:P3D
CALSCALE:GREGORIAN
BEGIN:VEVENT
DTSTART:20241201T190000Z
DTEND:20241201T230000Z
X-MICROSOFT-CDO-ALLDAYEVENT:FALSE
SUMMARY:Dooley's Annual Christmas Open House
DESCRIPTION:Join us for Dooley's Annual Christmas Open House on Sunday December 1st from 1pm-5pm located at 690 Rue St\, Francois\, Florissant\, MO 63031. Enjoy Light Refreshments and a drawing for a Christmas centerpiece..
X-ALT-DESC;FMTTYPE=text/html:Join us for Dooley&#39\;s Annual Christmas Open House on Sunday December 1st from 1pm-5pm located at 690 Rue St\, Francois\, Florissant\, MO 63031. Enjoy Light Refreshments and a drawing for a Christmas centerpiece..
LOCATION:Dooley's Florist & gifts 690 Rue St. Francois\, Florissant\, MO 63031
UID:e.1302.21434
SEQUENCE:3
DTSTAMP:20260419T130238Z
URL:https://public.greaternorthcountychamber.com/events/details/dooley-s-annual-christmas-open-house-21434
END:VEVENT

END:VCALENDAR
