BEGIN:VCALENDAR
VERSION:2.0
PRODID:-//ChamberMaster//Event Calendar 2.0//EN
METHOD:PUBLISH
X-PUBLISHED-TTL:P3D
REFRESH-INTERVAL:P3D
CALSCALE:GREGORIAN
BEGIN:VEVENT
DTSTART:20201216T170000Z
DTEND:20201216T190000Z
X-MICROSOFT-CDO-ALLDAYEVENT:FALSE
SUMMARY:December 2020 Membership Luncheon
DESCRIPTION:December 2020 Membership Luncheon\n\n\n\nProgram:\n\nState of the Chamber\n\n\n\nVIA ZOOM\n\nhttps://us02web.zoom.us/meeting/register/tZwpdemsrDMpE91CMeqVoEplmH7D0An8uaeU
X-ALT-DESC;FMTTYPE=text/html:<div style="text-align: center\;"><strong><em><u><span style="color:purple\;"><span style="font-family:arial\,sans-serif\;"><span style="font-size:16.5pt\;">December 2020 Membership Luncheon</span></span></span></u></em></strong><br />\n<br />\n<strong><em><u><span style="background:yellow\;"><span style="color:black\;"><span style="font-family:arial\,sans-serif\;"><span style="font-size:12.0pt\;">Program:</span></span></span></span></u></em></strong><br />\n<font color="#000000" face="arial\, sans-serif"><span style="font-size: 16px\;">State of the Chamber<br />\n<br />\nVIA ZOOM</span></font><br />\n<span style="font-family:calibri\,sans-serif\;"><span style="font-size:11.0pt\;"><a href="https://us02web.zoom.us/meeting/register/tZwpdemsrDMpE91CMeqVoEplmH7D0An8uaeU">https://us02web.zoom.us/meeting/register/tZwpdemsrDMpE91CMeqVoEplmH7D0An8uaeU</a></span></span></div>\n
LOCATION:TBD
UID:e.1302.20129
SEQUENCE:3
DTSTAMP:20260425T174954Z
URL:https://public.greaternorthcountychamber.com/events/details/december-2020-membership-luncheon-20129
END:VEVENT

END:VCALENDAR
