BEGIN:VCALENDAR
VERSION:2.0
PRODID:-//ChamberMaster//Event Calendar 2.0//EN
METHOD:PUBLISH
X-PUBLISHED-TTL:P3D
REFRESH-INTERVAL:P3D
CALSCALE:GREGORIAN
BEGIN:VEVENT
DTSTART:20241121T230000Z
DTEND:20241122T010000Z
X-MICROSOFT-CDO-ALLDAYEVENT:FALSE
SUMMARY:Cross Keys Middle School 3rd Annual Community Event
DESCRIPTION:Cross Keys Middle School 3rd Annual Community event Winter Wonderland on Thursday November 21st from 5-7pm. Come & shop  free gently used clothes\, non-perishable food items\, shoes\, coats\, and toys. For more information please contact Ms. Beverly Woody at bwoody@fergflor.org or Ms. Teresa Davis at tdavis@fergflor.org. Donations are being accepted at Cross keys Middle School located at 14205 Cougar Dr\, Florissant\, MO 63033
X-ALT-DESC;FMTTYPE=text/html:Cross Keys Middle School 3rd Annual Community event Winter Wonderland on Thursday November 21st from 5-7pm. Come &amp\; shop&nbsp\; free gently used clothes\, non-perishable food items\, shoes\, coats\, and toys. For more information please contact Ms. Beverly Woody at bwoody@fergflor.org or Ms. Teresa Davis at tdavis@fergflor.org. Donations are being accepted at Cross keys Middle School located at 14205 Cougar Dr\, Florissant\, MO 63033
LOCATION:Cross Keys Middle School 14205 Cougar Dr\, Florissant\, MO 63033
UID:e.1302.21435
SEQUENCE:3
DTSTAMP:20260419T181951Z
URL:https://public.greaternorthcountychamber.com/events/details/cross-keys-middle-school-3rd-annual-community-event-21435
END:VEVENT

END:VCALENDAR
