BEGIN:VCALENDAR
VERSION:2.0
PRODID:-//ChamberMaster//Event Calendar 2.0//EN
METHOD:PUBLISH
X-PUBLISHED-TTL:P3D
REFRESH-INTERVAL:P3D
CALSCALE:GREGORIAN
BEGIN:VEVENT
DTSTART;VALUE=DATE:20221017
DTEND;VALUE=DATE:20221023
TRANSP:TRANSPARENT
X-MICROSOFT-CDO-ALLDAYEVENT:TRUE
SUMMARY:CPR R US Grand Opening & Health Awareness Week
DESCRIPTION:Come Join Our Celebration!\n\nCPR R US would like to invite you to our Grand Opening celebration in honor of our newly opened location in Ballwin\, Missouri. Friends and family are welcomed!\n\nWhen:\n\n	October 17th - October 22nd\, 2022 \n\nTimes:\n\n\n	Monday\, October 17th 1-4pm\n	Tuesday\, October 18th 1-4pm\n	Wednesday\, October 19th 1-5pm\n	Thursday\, October 20th 1-4pm\n	Friday\, October 21st 1-5pm\n	Saturday\, October 22nd 1-5pm\n\nWhere:\n\n\n	Florissant Chamber of Commerce on October 17th\, 18th\, & 20th located at 420 W Washington St\, Florissant\, MO 63031\n	CPR "R" US Ballwin on October 19th & 22nd located at 410 Sovereign Court Suite #4 Ballwin\, MO. 63011\n	McDonnell Park on October 21st located at 2961 Adie Rd\, St Ann\, MO 63074 \n\nWhat:\n\nGuest speakers will be present each day of the Grand Opening from 1-2pm to cover the following topics:\n\n \n\n	Monday - Education on Depression by Kathy Jones\n	Tuesday- TBD\n	Wednesday- Managing Renal Failure by Raquel Hagens\n	Thursday- Managing Staffing Shortage in Healthcare Facilities by Syreeta Jackson\n	Friday- Autism by Bridget Vaughn\n	Saturday- EPTSAL Partnerships and Benefits of CPR by Robin Lewis\n\nOctober 21st and 22nd will be our Friends and Family Days! On these days\, CPR "R" US will conduct free blood pressure checks. There will be a food truck available on each day and live bands. On Friday\, October 21st\, we will be hosting the live band\, "The J Sound" followed by "The Phonics" on Saturday\, October 22nd.\n\nPlease RSVP for in-person or virtual attendance by October 7th\, 2022. Please schedule yourself according to the day you are available. The time you choose for booking is for scheduling purposes only. Refer to times above for each day of the Grand Opening Celebration. Space is limited for the first 200 virtual attendees and first 20 in person attendees each day. Refreshments will be provided for in-person attendants.
X-ALT-DESC;FMTTYPE=text/html:<strong><span style="color:#2C363A"><span style="font-family:verdana\,sans-serif"><span style="font-size:10.0pt">Come Join Our Celebration!</span></span></span></strong><br />\n<span style="color:#2C363A"><span style="font-family:verdana\,sans-serif"><span style="font-size:10.0pt">CPR R US would like to invite you to our Grand Opening celebration in honor of our newly opened location in Ballwin\, Missouri. Friends and family are welcomed!</span></span></span><br />\n<strong><span style="color:#2C363A"><span style="font-family:verdana\,sans-serif"><span style="font-size:10.0pt">When:</span></span></span></strong>\n<ul>\n	<li><span style="font-family:verdana\,sans-serif"><span style="font-size:10.0pt">October 17</span></span><sup><span style="font-family:verdana\,sans-serif"><span style="font-size:7.5pt">th</span></span></sup><span style="font-family:verdana\,sans-serif"><span style="font-size:10.0pt">&nbsp\;- October 22nd\, 2022&nbsp\;</span></span></li>\n</ul>\n<strong><span style="color:#2C363A"><span style="font-family:verdana\,sans-serif"><span style="font-size:10.0pt">Times:</span></span></span></strong>\n\n<ul>\n	<li><span style="font-family:verdana\,sans-serif"><span style="font-size:10.0pt">Monday\, October 17</span></span><sup><span style="font-family:verdana\,sans-serif"><span style="font-size:7.5pt">th</span></span></sup><span style="font-family:verdana\,sans-serif"><span style="font-size:10.0pt">&nbsp\;1-4pm</span></span></li>\n	<li><span style="font-family:verdana\,sans-serif"><span style="font-size:10.0pt">Tuesday\, October 18</span></span><sup><span style="font-family:verdana\,sans-serif"><span style="font-size:7.5pt">th</span></span></sup><span style="font-family:verdana\,sans-serif"><span style="font-size:10.0pt">&nbsp\;1-4pm</span></span></li>\n	<li><span style="font-family:verdana\,sans-serif"><span style="font-size:10.0pt">Wednesday\, October 19</span></span><sup><span style="font-family:verdana\,sans-serif"><span style="font-size:7.5pt">th</span></span></sup><span style="font-family:verdana\,sans-serif"><span style="font-size:10.0pt">&nbsp\;1-5pm</span></span></li>\n	<li><span style="font-family:verdana\,sans-serif"><span style="font-size:10.0pt">Thursday\, October 20</span></span><sup><span style="font-family:verdana\,sans-serif"><span style="font-size:7.5pt">th</span></span></sup><span style="font-family:verdana\,sans-serif"><span style="font-size:10.0pt">&nbsp\;1-4pm</span></span></li>\n	<li><span style="font-family:verdana\,sans-serif"><span style="font-size:10.0pt">Friday\, October 21</span></span><sup><span style="font-family:verdana\,sans-serif"><span style="font-size:7.5pt">st</span></span></sup><span style="font-family:verdana\,sans-serif"><span style="font-size:10.0pt">&nbsp\;1-5pm</span></span></li>\n	<li><span style="font-family:verdana\,sans-serif"><span style="font-size:10.0pt">Saturday\, October 22</span></span><sup><span style="font-family:verdana\,sans-serif"><span style="font-size:7.5pt">nd</span></span></sup><span style="font-family:verdana\,sans-serif"><span style="font-size:10.0pt">&nbsp\;1-5pm</span></span></li>\n</ul>\n<strong><span style="color:#2C363A"><span style="font-family:verdana\,sans-serif"><span style="font-size:10.0pt">Where:</span></span></span></strong>\n\n<ul>\n	<li><strong><span style="font-family:verdana\,sans-serif"><span style="font-size:10.0pt">Florissant Chamber of Commerce&nbsp\;on</span></span></strong><span style="font-family:verdana\,sans-serif"><span style="font-size:10.0pt">&nbsp\;<strong>October 17</strong></span></span><strong><sup><span style="font-family:verdana\,sans-serif"><span style="font-size:7.5pt">th</span></span></sup></strong><strong><span style="font-family:verdana\,sans-serif"><span style="font-size:10.0pt">\, 18</span></span></strong><strong><sup><span style="font-family:verdana\,sans-serif"><span style="font-size:7.5pt">th</span></span></sup></strong><strong><span style="font-family:verdana\,sans-serif"><span style="font-size:10.0pt">\, &amp\; 20</span></span></strong><strong><sup><span style="font-family:verdana\,sans-serif"><span style="font-size:7.5pt">th</span></span></sup></strong><strong><span style="font-family:verdana\,sans-serif"><span style="font-size:10.0pt">&nbsp\;located at&nbsp\;</span></span></strong><span style="font-family:verdana\,sans-serif"><span style="font-size:10.0pt">420 W Washington St\, Florissant\, MO 63031</span></span></li>\n	<li><strong><span style="font-family:verdana\,sans-serif"><span style="font-size:10.0pt">CPR &ldquo\;R&rdquo\; US Ballwin&nbsp\;on&nbsp\;</span></span></strong><span style="font-family:verdana\,sans-serif"><span style="font-size:10.0pt">October 19</span></span><sup><span style="font-family:verdana\,sans-serif"><span style="font-size:7.5pt">th</span></span></sup><span style="font-family:verdana\,sans-serif"><span style="font-size:10.0pt">&nbsp\;&amp\; 22</span></span><sup><span style="font-family:verdana\,sans-serif"><span style="font-size:7.5pt">nd</span></span></sup><span style="font-family:verdana\,sans-serif"><span style="font-size:10.0pt">&nbsp\;located at 410 Sovereign Court Suite #4 Ballwin\, MO. 63011</span></span></li>\n	<li><strong><span style="font-family:verdana\,sans-serif"><span style="font-size:10.0pt">McDonnell Park&nbsp\;on October 21</span></span></strong><strong><sup><span style="font-family:verdana\,sans-serif"><span style="font-size:7.5pt">st</span></span></sup></strong><strong><span style="font-family:verdana\,sans-serif"><span style="font-size:10.0pt">&nbsp\;located at&nbsp\;</span></span></strong><span style="font-family:verdana\,sans-serif"><span style="font-size:10.0pt">2961 Adie Rd\, St Ann\, MO 63074&nbsp\;</span></span></li>\n</ul>\n<strong><span style="color:#2C363A"><span style="font-family:verdana\,sans-serif"><span style="font-size:10.0pt">What:</span></span></span></strong><br />\n<span style="color:#2C363A"><span style="font-family:verdana\,sans-serif"><span style="font-size:10.0pt">Guest speakers will be present each day of the Grand Opening from 1-2pm to cover the following topics:</span></span></span><br />\n&nbsp\;\n<ul>\n	<li><strong><span style="font-family:verdana\,sans-serif"><span style="font-size:10.0pt">Monday -&nbsp\;Education on Depression&nbsp\;by&nbsp\;Kathy Jones</span></span></strong></li>\n	<li><strong><span style="font-family:verdana\,sans-serif"><span style="font-size:10.0pt">Tuesday-&nbsp\;TBD</span></span></strong></li>\n	<li><strong><span style="font-family:verdana\,sans-serif"><span style="font-size:10.0pt">Wednesday-&nbsp\;Managing Renal Failure&nbsp\;by Raquel Hagens</span></span></strong></li>\n	<li><strong><span style="font-family:verdana\,sans-serif"><span style="font-size:10.0pt">Thursday-&nbsp\;Managing Staffing Shortage in Healthcare Facilities&nbsp\;by Syreeta Jackson</span></span></strong></li>\n	<li><strong><span style="font-family:verdana\,sans-serif"><span style="font-size:10.0pt">Friday-&nbsp\;Autism&nbsp\;by Bridget Vaughn</span></span></strong></li>\n	<li><strong><span style="font-family:verdana\,sans-serif"><span style="font-size:10.0pt">Saturday-&nbsp\;EPTSAL Partnerships and Benefits of CPR&nbsp\;by Robin Lewis</span></span></strong></li>\n</ul>\n<span style="color:#2C363A"><span style="font-family:verdana\,sans-serif"><span style="font-size:10.0pt">October 21</span></span></span><sup><span style="color:#2C363A"><span style="font-family:verdana\,sans-serif"><span style="font-size:7.5pt">st</span></span></span></sup><span style="color:#2C363A"><span style="font-family:verdana\,sans-serif"><span style="font-size:10.0pt">&nbsp\;and 22</span></span></span><sup><span style="color:#2C363A"><span style="font-family:verdana\,sans-serif"><span style="font-size:7.5pt">nd</span></span></span></sup><span style="color:#2C363A"><span style="font-family:verdana\,sans-serif"><span style="font-size:10.0pt">&nbsp\;will be our Friends and Family Days! On these days\, CPR &quot\;R&quot\; US will conduct free blood pressure checks. There will be a food truck available on each day and live bands. On Friday\, October 21</span></span></span><sup><span style="color:#2C363A"><span style="font-family:verdana\,sans-serif"><span style="font-size:7.5pt">st</span></span></span></sup><span style="color:#2C363A"><span style="font-family:verdana\,sans-serif"><span style="font-size:10.0pt">\, we will be hosting the live band\, &ldquo\;The J Sound&rdquo\; followed by &ldquo\;The Phonics&rdquo\; on Saturday\, October 22nd.</span></span></span><br />\n<strong><span style="color:#2C363A"><span style="font-family:verdana\,sans-serif"><span style="font-size:10.0pt">Please RSVP for in-person or virtual attendance by October 7th\, 2022. Please schedule yourself according to the day you are available. The time you choose for booking is for scheduling purposes only. Refer to times above for each day of the Grand Opening Celebration. Space is limited for the first 200 virtual attendees and first 20 in person attendees each day. Refreshments will be provided for in-person attendants.</span></span></span></strong><br />\n&nbsp\;
LOCATION:Where: Florissant Chamber of Commerce on October 17th\, 18th\, & 20th located at 420 W Washington St\, Florissant\, MO 63031 CPR "R" US Ballwin on October 19th & 22nd located at 410 Sovereign Court Suite #4 Ballwin\, MO. 63011 McDonnell Park on October 21st located at 2961 Adie Rd\, St Ann\, MO 63074
UID:e.1302.20664
SEQUENCE:3
DTSTAMP:20260422T195927Z
URL:https://public.greaternorthcountychamber.com/events/details/cpr-r-us-grand-opening-health-awareness-week-20664
END:VEVENT

END:VCALENDAR
