BEGIN:VCALENDAR
VERSION:2.0
PRODID:-//ChamberMaster//Event Calendar 2.0//EN
METHOD:PUBLISH
X-PUBLISHED-TTL:P3D
REFRESH-INTERVAL:P3D
CALSCALE:GREGORIAN
BEGIN:VEVENT
DTSTART:20241225T150000Z
DTEND:20241225T170000Z
X-MICROSOFT-CDO-ALLDAYEVENT:FALSE
SUMMARY:Community Christmas Breakfast
DESCRIPTION:Join us for our free community Christmas Breakfast at So Deity Diner on Wednesday December 25th from 9am-11am.
X-ALT-DESC;FMTTYPE=text/html:Join us for our free community Christmas Breakfast at So Deity Diner on Wednesday December 25th from 9am-11am.
LOCATION:So Deity Diner 35 Florissant Oaks Shopping Center Florissant\, MO 63031
UID:e.1302.21509
SEQUENCE:3
DTSTAMP:20260421T080345Z
URL:https://public.greaternorthcountychamber.com/events/details/community-christmas-breakfast-21509
END:VEVENT

END:VCALENDAR
