BEGIN:VCALENDAR
VERSION:2.0
PRODID:-//ChamberMaster//Event Calendar 2.0//EN
METHOD:PUBLISH
X-PUBLISHED-TTL:P3D
REFRESH-INTERVAL:P3D
CALSCALE:GREGORIAN
BEGIN:VEVENT
DTSTART:20241012T130000Z
DTEND:20241012T173000Z
X-MICROSOFT-CDO-ALLDAYEVENT:FALSE
SUMMARY:City of Hazelwood The Junk in YourTrunk Rummage Sale
DESCRIPTION:Hazelwood Park and Recreation are hosting the Junk in Your Trunk Rummage Sale on Saturday October 12th from 8am-12:30pm at White Birch Park. Register to be a seller in person at the rec office or online at https://secure.rec1.com/MO/hazelwood-mo/catalog $15 for Residents and $20 for Non-residents
X-ALT-DESC;FMTTYPE=text/html:Hazelwood Park and Recreation are hosting the Junk in Your Trunk Rummage Sale on Saturday October 12th from 8am-12:30pm at White Birch Park. Register to be a seller in person at the rec office or online at&nbsp\;<a href="https://secure.rec1.com/MO/hazelwood-mo/catalog?fbclid=IwY2xjawFxA1lleHRuA2FlbQIxMAABHU_dGXYXVSP9OoMe2ttA9AjZ57_iKq69X9MMSaG9oZGDUBa5IZI75R74Yw_aem_O93qaCU9i7jZ0xfOpSgW2A">https://secure.rec1.com/MO/hazelwood-mo/catalog</a>&nbsp\;$15 for Residents and $20 for Non-residents
LOCATION:White Birch Park 1186 Teson Rd\, Hazelwood\, MO 63042
UID:e.1302.21284
SEQUENCE:3
DTSTAMP:20260421T104812Z
URL:https://public.greaternorthcountychamber.com/events/details/city-of-hazelwood-the-junk-in-yourtrunk-rummage-sale-21284
END:VEVENT

END:VCALENDAR
